BEGIN:VCALENDAR
VERSION:2.0
PRODID:-//Arte Que Acontece - ECPv6.15.20//NONSGML v1.0//EN
CALSCALE:GREGORIAN
METHOD:PUBLISH
X-WR-CALNAME:Arte Que Acontece
X-ORIGINAL-URL:https://artequeacontece.com.br
X-WR-CALDESC:Eventos para Arte Que Acontece
REFRESH-INTERVAL;VALUE=DURATION:PT1H
X-Robots-Tag:noindex
X-PUBLISHED-TTL:PT1H
BEGIN:VTIMEZONE
TZID:America/Sao_Paulo
BEGIN:STANDARD
TZOFFSETFROM:-0300
TZOFFSETTO:-0300
TZNAME:-03
DTSTART:20230101T000000
END:STANDARD
END:VTIMEZONE
BEGIN:VEVENT
DTSTART;TZID=America/Sao_Paulo:20240203T100000
DTEND;TZID=America/Sao_Paulo:20240506T170000
DTSTAMP:20260422T093728
CREATED:20240318T140215Z
LAST-MODIFIED:20240318T140220Z
UID:47354-1706954400-1715014800@artequeacontece.com.br
SUMMARY:"Beyond Form: Lines of Abstraction\,1950-1970" na Turner Contemporary
DESCRIPTION:Beyond Form Lines of Abstraction\, 1950 – 1970\, 2024. Vista da instalação. © Cortesia Turner Contemporary. Foto: Beth Saunders\n\n\n\nNesta primavera\, o Turner Contemporary apresenta Beyond Form: Lines of Abstraction\,1950-1970\, uma exposição coletiva que apresenta a abstração como uma linguagem global radical compartilhada por artistas mulheres nas duas décadas seguintes à Segunda Guerra Mundial. Com curadoria da convidada Dra. Flavia Frigeri\, a exposição reúne as obras de mais de 50 artistas para examinar como\, por meio de formas abstratas\, materiais e modos\, as mulheres expandiram os limites da criação artística enquanto lidavam com mudanças culturais\, sociais e políticas sísmicas. Compreendendo mais de 80 obras de arte\, predominantemente esculturas\, a exposição traça como a linguagem da abstração se desenvolveu em uma escala global. \n\n\n\nA exposição inclui esculturas de Mária Bartuszová\, Louise Bourgeois\, Eva Hesse e Hannah Wilke. Destaca a Escultura Viva de Marisa Merz (1966)\, uma peça realizada dentro dos confins íntimos de um espaço doméstico antes que a artista tivesse um estúdio. Também explora o uso inovador de materiais modernos por Carla Accardi e Marta Pan para redefinir espaço e percepção. A arte em fibra de Maria Teresa Chojnacka e Ewa Pachucka também é apresentada\, simbolizando resistência e libertação da censura ou monitoramento estatal. Complementando o foco escultural da exposição estão pinturas e relevos selecionados\, como o Leste de Carmen Herrera (1965) e Manhã de Agnes Martin (1965)\, enriquecendo a compreensão deste período artístico. \n\n\n\nJuntas\, as obras incluídas em Além da Forma mapeiam uma constelação que fala à linguagem global e coletiva da abstração que transcende fronteiras geográficas e culturais por meio do meio universal da escultura. \n\n\n\nAlém da Forma tem curadoria da convidada Dra. Flavia Frigeri\, historiadora da arte e ‘Curadora Chanel para a Coleção’ na National Portrait Gallery\, Londres. No Turner Contemporary\, a exposição é realizada com Sarah Martin\, Chefe de Exposições. \n\n\n\nArtistas Expostos: \n\n\n\nCarla Accardi; Novera Ahmed; Anthea Alley; Ruth Asawa; Mária Bartuszová; Lynda Benglis; Margaret Benyon; Anna-Eva Bergman; Sandra Blow; Lee Bontecou; Louise Bourgeois; Rosemarie Castoro; Jocelyn Chewett; Maria Teresa Chojnacka; Lygia Clark; Saloua Raouda Choucair; Dadamaino; Dorothy Dehner; Claire Falkenstein; Habuba Farah; Maria Freire; Elisabeth Frink; Sue Fuller; Barbara Hepworth; Carmen Herrera; Eva Hesse; Sheila Hicks; Ilona Keserü; Bice Lazzari; Felicia Leirner; Kim Lim; Agnes Martin; Mary Martin; Marisa Merz; Yuko Nasaka; Louise Nevelson; Ewa Pachucka; Marta Pan; Howardina Pindell; Pilloo Pochkhanawala; Bridget Riley; Meg Rutherford; Ana Sacerdote; Behjat Sadr; Nasreen Mohamedi; Mona Saudi; Hedde Sterne; Arpita Singh; Jean Spencer; Hedda Sterne; Lenore Tawney; Marilia Gianetti Torres; Paule Vézelay; Daniela Vinopalová; Hannah Wilke; Gillian Wise.
URL:https://artequeacontece.com.br/evento/beyond-form-lines-of-abstraction1950-1970-na-turner-contemporary/
LOCATION:Turner Contemporary\, Rendezvous\, Margate\, Kent CT9 1HG\, Londres\, Reino unido
CATEGORIES:Londres
ATTACH;FMTTYPE=image/jpeg:https://artequeacontece.com.br/wp-content/uploads/2024/03/Beyond-Form-Lines-of-Abstraction-1950-1970-2024-Installation-View.jpg
END:VEVENT
END:VCALENDAR