BEGIN:VCALENDAR
VERSION:2.0
PRODID:-//Arte Que Acontece - ECPv6.15.20//NONSGML v1.0//EN
CALSCALE:GREGORIAN
METHOD:PUBLISH
X-WR-CALNAME:Arte Que Acontece
X-ORIGINAL-URL:https://artequeacontece.com.br
X-WR-CALDESC:Eventos para Arte Que Acontece
REFRESH-INTERVAL;VALUE=DURATION:PT1H
X-Robots-Tag:noindex
X-PUBLISHED-TTL:PT1H
BEGIN:VTIMEZONE
TZID:America/Sao_Paulo
BEGIN:STANDARD
TZOFFSETFROM:-0300
TZOFFSETTO:-0300
TZNAME:-03
DTSTART:20220101T000000
END:STANDARD
END:VTIMEZONE
BEGIN:VEVENT
DTSTART;TZID=America/Sao_Paulo:20230513T120000
DTEND;TZID=America/Sao_Paulo:20230624T170000
DTSTAMP:20260422T053338
CREATED:20230522T175135Z
LAST-MODIFIED:20230522T175138Z
UID:40911-1683979200-1687626000@artequeacontece.com.br
SUMMARY:Bernadette Despujols e Elizabeth Tremante no Spinello Projects
DESCRIPTION:Bernadette Despujols e Elizabeth Tremante apresentam a exposição Women & Sculpture. A mostra reúne as obras dessas duas artistas que examinam a objetificação das mulheres e da figura feminina dentro do cânone da história da arte. O trabalho de Elizabeth Tremante expõe\, de forma humorística\, pontos cegos dolorosos na história da arte que reforçam o sexismo\, as sutis dinâmicas de poder e os preconceitos na cultura contemporânea. As pinturas narrativas de Tremante criticam a maneira como as mulheres têm sido tradicionalmente retratadas como objetos\, reformulando as mulheres como criadoras e consumidoras de arte. O trabalho de Tremante é aditivo\, emprestando experiências da vida real das mulheres e meninas em sua vida\, representando mulheres reais que ela encontrou em museus e galerias de arte\, além de misturar essas experiências com obras de arte históricas que sangram e projetam fluidos corporais. Todas as suas pinturas selecionadas nesta exposição\, que foram apresentadas anteriormente na EXPO Chicago deste ano\, apresentam estátuas de mulheres sem membros ou em queda\, desde a Antiguidade Clássica\, passando por Auguste Rodin\, Constantin Brancusi e Lynda Benglis. Espelhando as estátuas amputadas de Tremante\, Despujols cria torsos femininos de concreto sem cabeça e sem membros\, com suas aberturas inacessíveis\, usando bonecas infláveis como moldes em sua série contínua de esculturas chamada Love Dolls. Em uma série anterior de nus figurativos\, Despujols expõe a exploração das mulheres em duas pinturas que usam imagens encontradas de mulheres inconscientes da pornografia da internet. Despujols pinta essas mulheres para usurpar o olhar do homem que pode ter tirado as fotos de referência originais. O trabalho de ambas as artistas subverte ativamente o olhar masculino\, minando a sociedade dominada pelos homens que reduz as mulheres a objetos sexuais\, por meio do uso da história\, da ironia e do contexto (ou a falta dele).
URL:https://artequeacontece.com.br/evento/bernadette-despujols-e-elizabeth-tremante-no-spinello-projects/
LOCATION:Spinello Projects\, 2930 NW 7 Ave.\, Miami\, Flórida\, Estados Unidos
CATEGORIES:Miami
ATTACH;FMTTYPE=image/jpeg:https://artequeacontece.com.br/wp-content/uploads/2023/05/Elizabeth-Tremante_Out-of-Action-Women-Sculpture-200BCE-Present_2023_Oil-on-canvas_23-x-27-in-1-1.jpeg
END:VEVENT
END:VCALENDAR