BEGIN:VCALENDAR
VERSION:2.0
PRODID:-//Arte Que Acontece - ECPv6.15.20//NONSGML v1.0//EN
CALSCALE:GREGORIAN
METHOD:PUBLISH
X-WR-CALNAME:Arte Que Acontece
X-ORIGINAL-URL:https://artequeacontece.com.br
X-WR-CALDESC:Eventos para Arte Que Acontece
REFRESH-INTERVAL;VALUE=DURATION:PT1H
X-Robots-Tag:noindex
X-PUBLISHED-TTL:PT1H
BEGIN:VTIMEZONE
TZID:America/Sao_Paulo
BEGIN:STANDARD
TZOFFSETFROM:-0300
TZOFFSETTO:-0300
TZNAME:-03
DTSTART:20230101T000000
END:STANDARD
END:VTIMEZONE
BEGIN:VEVENT
DTSTART;TZID=America/Sao_Paulo:20240906T130000
DTEND;TZID=America/Sao_Paulo:20241004T180000
DTSTAMP:20260419T103600
CREATED:20240906T171157Z
LAST-MODIFIED:20240906T171157Z
UID:50935-1725627600-1728064800@artequeacontece.com.br
SUMMARY:"Aspectos de uma cidade" de Osvaldo Carvalho no Ateliê 31
DESCRIPTION:Osvaldo Carvalho\, Balada 70\, da série Balada\, 2023\n\n\n\n\nO artista Osvaldo Carvalho inaugura a individual “Aspectos de uma cidade”\, no dia 06 de setembro de 2024 (sexta-feira)\, das 16h às 19h30\, no Ateliê 31\, Centro do Rio de Janeiro. A mostra\, que tem curadoria de Shannon Botelho\, reúne 25 pinturas em dimensões diversas\, produzidas após o período pandêmico. \nEm sua recente pesquisa\, Carvalho se debruça sobre imagens e referências da cultura e da cidade\, explorando o vocabulário visual contemporâneo e as contradições de um imaginário moldado por ideologias\, conflitos e poder. Fragmentos de cenas\, situações e detalhes do cotidiano emergem como expressão de uma prática artística que desafia e ressignifica o olhar sobre a cidade. \n“Aspectos de uma cidade” apresenta um conjunto representativo do seu trabalho. “A problematização dos ‘lugares comuns’ das cenas prosaicas\, experimentadas no dia a dia\, é uma constante nos trabalhos que abordam\, cada qual a seu modo\, as peculiaridades de uma cidade tão complexa e desigual\, quanto sedutora e inebriante”\, descreve Shannon Botelho. \nAs 25 pinturas exibidas na mostra fazem parte das cinco séries “Pequenas Dissensões”\, “Caixas e Caixotes”\, “Celebração”\, “Empreendedores” e “Balada”. As duas primeiras “estabelecem uma problematização sobre os objetos-imagens com os quais lidamos diariamente\, com um certo grau de ironia e problematização sobre a sua descartabilidade e multiplicidade\, como em um libelo anti-pop”. Já nas séries seguintes\, o artista “indica mais um aspecto da reflexão\, desta vez\, marcada pela violência e pela desigualdade social\, agravadas pelo racismo estrutural que vigora não só em nossa cidade\, mas também em todo país”\, diz o curador. \nA exposição propõe um campo de debate\, onde a ironia das situações e dos contextos convida à reflexão sobre nossas condições de vida\, nossas escolhas e as ações cotidianas que sustentam o status quo. Osvaldo traz à tona sua perspectiva a partir da zona norte do Rio de Janeiro\, abordando temas como desigualdade social e violência urbana\, muitas vezes com referências diretas. Ele faz isso dentro do universo pictórico\, consciente do ambiente saturado de imagens\, e busca capturar a atenção do espectador com uma paleta marcante e composições que desafiam o olhar\, criando conexões e sobreposições de elementos que provocam a reflexão e estão longe de serem acidentais. “’Aspetos de uma Cidade’\, funda-se como um lugar propício para nos encontrarmos com o tempo presente\, revisitarmos o passado e desenharmos outro futuro\, diferente do qual que desde agora avistamos”\, conclui Botelho no texto curatorial.
URL:https://artequeacontece.com.br/evento/aspectos-de-uma-cidade-de-osvaldo-carvalho-no-atelie-31/
LOCATION:Ateliê 31\, Rua México\, 31\, sala 1003 - Cinelândia\, Rio de Janeiro\, RJ\, Brasil
CATEGORIES:Rio de Janeiro
ATTACH;FMTTYPE=image/jpeg:https://artequeacontece.com.br/wp-content/uploads/2024/09/Osvaldo-Carvalho_Balada-70-serie-Balada-2023_Acrilica-sobre-papel-e-projetil-de-arma-de-fogo-encontrado_46-x-64-cm-1-1.jpg
END:VEVENT
END:VCALENDAR