BEGIN:VCALENDAR
VERSION:2.0
PRODID:-//Arte Que Acontece - ECPv6.15.20//NONSGML v1.0//EN
CALSCALE:GREGORIAN
METHOD:PUBLISH
X-WR-CALNAME:Arte Que Acontece
X-ORIGINAL-URL:https://artequeacontece.com.br
X-WR-CALDESC:Eventos para Arte Que Acontece
REFRESH-INTERVAL;VALUE=DURATION:PT1H
X-Robots-Tag:noindex
X-PUBLISHED-TTL:PT1H
BEGIN:VTIMEZONE
TZID:America/Sao_Paulo
BEGIN:STANDARD
TZOFFSETFROM:-0300
TZOFFSETTO:-0300
TZNAME:-03
DTSTART:20220101T000000
END:STANDARD
END:VTIMEZONE
BEGIN:VEVENT
DTSTART;TZID=America/Sao_Paulo:20230805T130000
DTEND;TZID=America/Sao_Paulo:20230916T170000
DTSTAMP:20260422T060502
CREATED:20230815T192859Z
LAST-MODIFIED:20230815T192905Z
UID:43262-1691240400-1694883600@artequeacontece.com.br
SUMMARY:"As palavras e as vísceras" de Christina Elias na Lona Galeria
DESCRIPTION:A Lona Galeria promove a exposição As palavras e as vísceras\, da artista Christina Elias\, com curadoria de Ícaro Ferraz Vidal Junior. Inspirada nos campos da performance e da dança contemporânea\, Christina Elias cria obras que ocupam o espaço tridimensional\, estruturadas em torno do corpo e da imagem. Seu processo criativo constrói pontes entre as artes visuais\, a dança e a literatura. Em As palavras e as vísceras\, a artista mistura uma série de têxteis vestíveis\, combinados com fotografia e instalação. É neste contexto criativo\, que Christina Elias se aproxima da forma como enxerga o feminino. Seus trabalhos são elementos vivos e pulsantes que facilmente envolvem quem as observa e cumprem o papel de sensibilizar pela arte. \n\n\n\n“Na articulação fina que opera entre o corpo\, a casa e a linguagem\, Christina Elias constrói uma obra que recusa a discursividade e a denúncia como operadores políticos de sua poética que não é\, por isso\, menos feminista. Sem negligenciar a responsabilidade implicada no gesto artístico de trazer novas imagens e objetos para a esfera pública\, Elias opta pelo desenvolvimento de estratégias que nos permitam tatear o absurdo da nossa existência\, feita de vísceras e palavras. A casa é um resíduo: instinto e linguagem.”\, afirma o curador da exposição. A exposição\, que vai até o dia 16 de setembro\, conta com 20 obras e propõe uma visita em formato circular\, sem indicação de começo ou fim. É um convite para entrar em contato com outras concepções do feminino a partir do olhar da artista.
URL:https://artequeacontece.com.br/evento/as-palavras-e-as-visceras-de-christina-elias-na-lona-galeria/
LOCATION:Lona Galeria\, Rua Brigadeiro Galvão\, 990 - Barra Funda\, São Paulo\, SP\, Brasil
CATEGORIES:São Paulo
ATTACH;FMTTYPE=image/jpeg:https://artequeacontece.com.br/wp-content/uploads/2023/08/Christina-Elias-1-1.jpg
END:VEVENT
END:VCALENDAR