BEGIN:VCALENDAR
VERSION:2.0
PRODID:-//Arte Que Acontece - ECPv6.15.20//NONSGML v1.0//EN
CALSCALE:GREGORIAN
METHOD:PUBLISH
X-WR-CALNAME:Arte Que Acontece
X-ORIGINAL-URL:https://artequeacontece.com.br
X-WR-CALDESC:Eventos para Arte Que Acontece
REFRESH-INTERVAL;VALUE=DURATION:PT1H
X-Robots-Tag:noindex
X-PUBLISHED-TTL:PT1H
BEGIN:VTIMEZONE
TZID:America/Sao_Paulo
BEGIN:STANDARD
TZOFFSETFROM:-0300
TZOFFSETTO:-0300
TZNAME:-03
DTSTART:20220101T000000
END:STANDARD
END:VTIMEZONE
BEGIN:VEVENT
DTSTART;TZID=America/Sao_Paulo:20230531T090000
DTEND;TZID=America/Sao_Paulo:20230723T180000
DTSTAMP:20260419T085820
CREATED:20230531T124650Z
LAST-MODIFIED:20230531T124653Z
UID:41124-1685523600-1690135200@artequeacontece.com.br
SUMMARY:Artur Lescher no Instituto Artium de Cultura
DESCRIPTION:O Instituto Artium de Cultura apresenta a exposição individual de Artur Lescher (São Paulo\, Brasil\, 1962)\, um dos artistas de maior destaque no cenário da arte contemporânea brasileira. Composta por cinco obras de grandes formatos\, a mostra traz dois trabalhos concebidos especialmente para a exposição\, inéditos ao público. Conhecido por suas impecáveis esculturas pendulares\, este recorte da produção do artista foi concebido em diálogo com a arquitetura do Palacete Stahl – construído em 1920 para abrigar o consulado da Coroa Sueca\, mais tarde utilizado pelo Império do Japão\, e agora sede do Instituto Artium\, uma entidade cultural sem fins lucrativos. Nesta mostra Lescher busca colocar em diálogo a função original do edifício com a sua função contemporânea\, que é a de espaço cultural\, voltado para projetos de artes visuais. Para isso\, apresenta trabalhos que dialogam diretamente com o entorno em que estão inseridos. Com esta relação entre os trabalhos e o espaço construído há mais de cem anos\, o artista nos questiona: o que pode aparecer desse atrito e confronto de ideias e ficções extemporâneas? Os destaques da montagem são as obras pendulares no salão principal\, onde foi criada uma grande instalação de obras inéditas que conversam com trabalhos anteriores. Completando a ocupação do Palacete\, a obra Elipse Piracaia (2016)\, uma escultura de 3\,50 metros\, será instalada na área externa do Instituto Artium. Há mais de trinta anos o paulistano Artur Lescher apresenta um sólido trabalho\, resultado de uma pesquisa em torno da articulação entre matéria\, forma e pensamento. São trabalhos que excedem o caráter de escultura e cruzam as linguagens da instalação e do objeto\, a fim de modificar a compreensão destas e do espaço no qual se inserem. Ao mesmo tempo que sua prática está atrelada a processos industriais\, sua produção não tem como único fim a forma.
URL:https://artequeacontece.com.br/evento/artur-lescher-no-instituto-artium-de-cultura/
LOCATION:Instituto Artium de Cultura\, 874 R. Piauí Higienópolis\, São Paulo\, São Paulo\, Brasil
CATEGORIES:São Paulo
ATTACH;FMTTYPE=image/jpeg:https://artequeacontece.com.br/wp-content/uploads/2023/05/SIM_ELIP20_01_v2-1-1.jpg
END:VEVENT
END:VCALENDAR