BEGIN:VCALENDAR
VERSION:2.0
PRODID:-//Arte Que Acontece - ECPv6.15.20//NONSGML v1.0//EN
CALSCALE:GREGORIAN
METHOD:PUBLISH
X-WR-CALNAME:Arte Que Acontece
X-ORIGINAL-URL:https://artequeacontece.com.br
X-WR-CALDESC:Eventos para Arte Que Acontece
REFRESH-INTERVAL;VALUE=DURATION:PT1H
X-Robots-Tag:noindex
X-PUBLISHED-TTL:PT1H
BEGIN:VTIMEZONE
TZID:America/Sao_Paulo
BEGIN:STANDARD
TZOFFSETFROM:-0300
TZOFFSETTO:-0300
TZNAME:-03
DTSTART:20240101T000000
END:STANDARD
END:VTIMEZONE
BEGIN:VEVENT
DTSTART;TZID=America/Sao_Paulo:20250219T090000
DTEND;TZID=America/Sao_Paulo:20250505T200000
DTSTAMP:20260422T071146
CREATED:20250218T151828Z
LAST-MODIFIED:20250218T151916Z
UID:61146-1739955600-1746475200@artequeacontece.com.br
SUMMARY:"Arte Subdesenvolvida" no CCBB RJ
DESCRIPTION:Obra “Sonhos de Refrigerador”\, de Randolpho Lamonier no CCBB BH. Foto: Diego Bresani\nEntre os dias 19 de fevereiro e 05 de maio\, o CCBB Rio recebe a exposição “Arte Subdesenvolvida”\, que propõe uma reflexão sobre a produção artística brasileira entre meados da década de 1930 e início de 1980\, a partir de seu embate com a ideia de subdesenvolvimento\, que seria tanto uma condição para aqueles que viviam no Brasil como algo a ser superado a partir de suas contradições.   \nA mostra tem como eixo a problematização da ideia de subdesenvolvimento. Sobretudo após a Segunda Guerra Mundial\, países econômica e socialmente vulneráveis passaram a ser denominados “subdesenvolvidos”. No Brasil\, artistas e intelectuais reagiram a esse conceito. Parte do que produziram nessa época está presente na exposição. O conceito durou cinco décadas até ser substituído por outros\, entre os quais países emergentes ou em desenvolvimento. \nArticulando trabalhos de mais de 20 artistas\, incluindo documentos históricos\, fotografias e escritos\, a mostra incorpora manifestações também nos campos da literatura\, cinema\, teatro e da educação\, com obras que adensam a pluralidade artística brasileira\, tensionando a relação entre a arte vibrante presente nas paredes e a escassez de recursos e de urbanidade\, dos litorais ao interior.  \n“Arte Subdesenvolvida” tem curadoria de Moacir dos Anjos e conta com trabalhos de artistas como Anna Bella Geiger\, Anna Maria Maiolino\, Cildo Meireles\, Daniel Santiago\, Hélio Oiticica\, Carolina Maria de Jesus\, Elza Soares\, Ferreira Gullar\, José Claudio\, Graciliano Ramos\, Henfil\, Luís Sacilotto\, Obaluayê\, Paulo Bruscky\, Paulo Freire\, Rachel de Queiroz\, Glauber Rocha\, Solano Trindade\, Randolpho Lamounier\, dentre outros.   \nCuradoria: Moacir dos Anjos
URL:https://artequeacontece.com.br/evento/arte-subdesenvolvida-no-ccbb-rj/
LOCATION:CCBB\, 66 R. Primeiro de Março Centro\, Rio de Janeiro\, Rio de Janeiro\, Brasil
CATEGORIES:Rio de Janeiro
ATTACH;FMTTYPE=image/jpeg:https://artequeacontece.com.br/wp-content/uploads/2025/02/arte-subdesenvolvida_foto-diego-bresani__BRE8523-Obra-Sonhos-de-Refrigerador-de-Randolpho-Lamonier-CCBB-BH-1.jpg
END:VEVENT
END:VCALENDAR