BEGIN:VCALENDAR
VERSION:2.0
PRODID:-//Arte Que Acontece - ECPv6.15.20//NONSGML v1.0//EN
CALSCALE:GREGORIAN
METHOD:PUBLISH
X-WR-CALNAME:Arte Que Acontece
X-ORIGINAL-URL:https://artequeacontece.com.br
X-WR-CALDESC:Eventos para Arte Que Acontece
REFRESH-INTERVAL;VALUE=DURATION:PT1H
X-Robots-Tag:noindex
X-PUBLISHED-TTL:PT1H
BEGIN:VTIMEZONE
TZID:America/Sao_Paulo
BEGIN:STANDARD
TZOFFSETFROM:-0300
TZOFFSETTO:-0300
TZNAME:-03
DTSTART:20230101T000000
END:STANDARD
END:VTIMEZONE
BEGIN:VEVENT
DTSTART;TZID=America/Sao_Paulo:20240831T100000
DTEND;TZID=America/Sao_Paulo:20250105T170000
DTSTAMP:20260422T074100
CREATED:20241211T165503Z
LAST-MODIFIED:20241211T165503Z
UID:60281-1725098400-1736096400@artequeacontece.com.br
SUMMARY:"Art of the Black World" nos Harvard Art Museums
DESCRIPTION:Alexis Peskine\, francês\, “Aljana Moons 3”\, 2015. Harvard Art Museums/Fogg Museum\, Richard and Ronay Menschel Fund for the Acquisition of Photographs\n\n\n\n\nO curso de Harvard Art of the Black World (História da Arte e Arquitetura 178V e Estudos Africanos e Afro-Americanos 178X) explora a questão: o que seria perdido sem uma compreensão da arte do mundo negro? Ministrado pelas professoras Sarah Lewis e Suzanne Preston Blier\, que atuam nos Departamentos de História da Arte e Arquitetura e de Estudos Africanos e Afro-Americanos\, o curso oferece uma introdução à história e ao estudo das artes da diáspora africana. \nA cada semana\, os alunos analisam obras-chave produzidas na África e nas Américas ao longo de séculos\, em diversos meios como escultura\, gravura\, fotografia e pintura. Após palestras e discussões\, os estudantes dedicam-se à pesquisa e exame detalhado das obras exibidas nesta galeria e em outras coleções do campus e fora dele. \nO curso busca desenvolver habilidades de observação atenta e compreensão histórica\, situando as obras em seus contextos de criação. Além disso\, ensina a refletir sobre como cada obra contribui para discussões mais amplas sobre temas como justiça\, religião e gênero. Assim\, os estudantes aprendem sobre a relevância da cultura visual na construção dessas conversas. \nA University Teaching Gallery atende professores e estudantes do Departamento de História da Arte e Arquitetura de Harvard. Pequenas instalações de um semestre são organizadas neste espaço em conjunto com cursos de graduação e pós-graduação\, promovendo a análise crítica da arte e disponibilizando seleções exclusivas das coleções dos museus para todos os visitantes.
URL:https://artequeacontece.com.br/evento/art-of-the-black-world-nos-harvard-art-museums/
LOCATION:Harvard Art Museums\, 32 Quincy St Mid-Cambridge\, Cambridge\, Massachusetts\, Estados Unidos
CATEGORIES:Boston
ATTACH;FMTTYPE=image/jpeg:https://artequeacontece.com.br/wp-content/uploads/2024/12/434299006.jpg
END:VEVENT
END:VCALENDAR