BEGIN:VCALENDAR
VERSION:2.0
PRODID:-//Arte Que Acontece - ECPv6.15.20//NONSGML v1.0//EN
CALSCALE:GREGORIAN
METHOD:PUBLISH
X-WR-CALNAME:Arte Que Acontece
X-ORIGINAL-URL:https://artequeacontece.com.br
X-WR-CALDESC:Eventos para Arte Que Acontece
REFRESH-INTERVAL;VALUE=DURATION:PT1H
X-Robots-Tag:noindex
X-PUBLISHED-TTL:PT1H
BEGIN:VTIMEZONE
TZID:America/Sao_Paulo
BEGIN:STANDARD
TZOFFSETFROM:-0300
TZOFFSETTO:-0300
TZNAME:-03
DTSTART:20230101T000000
END:STANDARD
END:VTIMEZONE
BEGIN:VEVENT
DTSTART;TZID=America/Sao_Paulo:20240119T100000
DTEND;TZID=America/Sao_Paulo:20240623T180000
DTSTAMP:20260422T053436
CREATED:20240216T183204Z
LAST-MODIFIED:20240216T183209Z
UID:46528-1705658400-1719165600@artequeacontece.com.br
SUMMARY:"Art Now" de Zeinab Saleh na Tate Britain
DESCRIPTION:Zeinab Saleh\, Early morning\, 2024\n\n\n\nZeinab Saleh utiliza tinta acrílica\, carvão e pastéis suaves para criar uma nova série de pinturas e desenhos para sua exibição Art Now na Tate Britain. Inspirada em experiências cotidianas\, encontros pessoais e memórias\, os materiais e paleta de Saleh permitem que ela crie obras de arte que evocam sentimentos de intimidade e ternura sem estar fixadas em nenhum tempo ou narrativa específica. Convidando à calma e à contemplação\, o espectador é imerso no espaço dentro da imagem. Saleh utiliza padrões e silhuetas recorrentes para projetar camadas de tempo e significado em suas telas. Ela alude a narrativas\, mas raramente elas são totalmente reveladas.
URL:https://artequeacontece.com.br/evento/art-now-de-zeinab-saleh-na-tate-britain/
LOCATION:Tate Britain\, Millbank\, Londres\, Reino unido
CATEGORIES:Londres
ATTACH;FMTTYPE=image/jpeg:https://artequeacontece.com.br/wp-content/uploads/2024/02/ZS_Tate_guide_1_resized.width-1440.jpg
END:VEVENT
END:VCALENDAR