BEGIN:VCALENDAR
VERSION:2.0
PRODID:-//Arte Que Acontece - ECPv6.15.20//NONSGML v1.0//EN
CALSCALE:GREGORIAN
METHOD:PUBLISH
X-WR-CALNAME:Arte Que Acontece
X-ORIGINAL-URL:https://artequeacontece.com.br
X-WR-CALDESC:Eventos para Arte Que Acontece
REFRESH-INTERVAL;VALUE=DURATION:PT1H
X-Robots-Tag:noindex
X-PUBLISHED-TTL:PT1H
BEGIN:VTIMEZONE
TZID:America/Sao_Paulo
BEGIN:STANDARD
TZOFFSETFROM:-0300
TZOFFSETTO:-0300
TZNAME:-03
DTSTART:20240101T000000
END:STANDARD
END:VTIMEZONE
BEGIN:VEVENT
DTSTART;TZID=America/Sao_Paulo:20250614T090000
DTEND;TZID=America/Sao_Paulo:20250809T180000
DTSTAMP:20260422T090950
CREATED:20250612T183453Z
LAST-MODIFIED:20250612T184444Z
UID:63220-1749891600-1754762400@artequeacontece.com.br
SUMMARY:"Arca" de Raúl Díaz Reyes na Zielinsky
DESCRIPTION:Raúl Díaz Reyes\, “Arcadia” – Divulgação\n\n\n\n\nA Zielinsky São Paulo apresenta\, de 14 de junho a 09 de agosto de 2025\, “Arca”\, a exposição individual do artista espanhol Raúl Díaz Reyes na Travessa Dona Paula\, em Higienópolis\, em São Paulo. Com texto crítico de Camila Bechelany\, a mostra revela a nova produção de pinturas realizada em solo brasileiro neste ano. O evento celebra o primeiro ano de funcionamento da galeria no Brasil\, comemorado no último dia 08.Arca propõe-se como um suporte simbólico e físico — uma espécie de caixa de ressonância — que abriga obras capazes de operar como relicários. Cada peça preserva em si signos crípticos\, fragmentos de memória\, arquétipos e gestos suspensos no tempo. São cápsulas de significado berto\, matrizes que convidam tanto à decifração quanto à contemplação silenciosa. Em sentido figurado\, “arca” pode significar depósito\, tesouro ou um lugar de grande variedade.A primeira vista da obra de Raúl Díaz Reyes destaca-se por uma visualidade minimalista\, matizada com notas de onirismo e metafísica. Mas seu foco é a exploração da linguagem em um objeto cultural específico. Ele conecta seu trabalho com a tradição da Arte Conceitual. O imaginário visual de Raúl é o resultado de suas contínuas explorações nos campos da estética e da semiótica contemporâneas: a História da Arte\, a abstração\, o cinema\, a arquitetura e o design; o paisajismo\, a poesia\, a geometria\, a música e até a arqueologia. Seu ponto de partida é alterar e fundir códigos correspondentes ao som\, a imagem e a palavra\, e criar um signo híbrido que permita ensaiar uma sorte de outras linguagens. Este enfoque\, essencialmente sinestésico\, busca uma nova materialidade e/ou arquitetura para a memória humana.Seus signos são\, além de um feito artístico\, um efeito linguístico\, um incidente gráfico e um instrumento de mística intelectual. Não há em sua constituição nenhum rastro dicotômico: natureza/cultura; texto/ imagem; poesia/pintura; logotipos/ícone\, todos esses elementos se fundem gerando assim um corpo que tem a forma imprecisa de um totem primitivo\, um livro aberto ou um artefato.
URL:https://artequeacontece.com.br/evento/arca-de-raul-diaz-reyes-na-zielinsky/
LOCATION:Zielinsky São Paulo\, Travessa Dona Paula\, 33 - Higienópolis\, São Paulo\, SP
CATEGORIES:São Paulo
ATTACH;FMTTYPE=image/jpeg:https://artequeacontece.com.br/wp-content/uploads/2025/06/Raul-Diez-Reyes.jpg
END:VEVENT
END:VCALENDAR