BEGIN:VCALENDAR
VERSION:2.0
PRODID:-//Arte Que Acontece - ECPv6.15.20//NONSGML v1.0//EN
CALSCALE:GREGORIAN
METHOD:PUBLISH
X-WR-CALNAME:Arte Que Acontece
X-ORIGINAL-URL:https://artequeacontece.com.br
X-WR-CALDESC:Eventos para Arte Que Acontece
REFRESH-INTERVAL;VALUE=DURATION:PT1H
X-Robots-Tag:noindex
X-PUBLISHED-TTL:PT1H
BEGIN:VTIMEZONE
TZID:America/Sao_Paulo
BEGIN:STANDARD
TZOFFSETFROM:-0300
TZOFFSETTO:-0300
TZNAME:-03
DTSTART:20230101T000000
END:STANDARD
END:VTIMEZONE
BEGIN:VEVENT
DTSTART;TZID=America/Sao_Paulo:20240801T100000
DTEND;TZID=America/Sao_Paulo:20240824T190000
DTSTAMP:20260419T084636
CREATED:20240801T173414Z
LAST-MODIFIED:20240801T174316Z
UID:50040-1722506400-1724526000@artequeacontece.com.br
SUMMARY:"Arapuca" na Aura Galeria
DESCRIPTION:Diego Crux\, Esse corpo de ***** que tu vê\, é apenas a imagem do que sou\, 2019\n\n\n\n\nEm 1° de agosto\, quinta-feira\, os artistas Daniel Ramos (1988\, São Paulo\, SP)\, Diego Crux (1987\, São Paulo\, SP) e Jeff (1987\, Maceió\, AL) inauguram a coletiva “Arapuca”\, com curadoria de Gabriel San Martin\, na Aura. Com abertura paralela à individual de Renan Teles\, no piso térreo\, a exposição desenvolve com maior afinco alguns dos engajamentos em torno dos quais se envolve o coletivo Vilanismo\, do qual Renan e os três artistas fazem parte. \nEstabelecendo tensões entre uma ideia homogeneizante de marginalidade frente às configurações variadas que regem a manifestação material do conceito\, “Arapuca” coloca placa a placa o encontro entre cultura e economia\, esfera pública e privada\, na esteira de questões características que envolvem a produção artística diante das relações dinâmicas que assombram a periferia do capitalismo. Já que poder é\, no seu fundamento\, um conceito de relação\, redimensionar as disputas entre estabelecido e outsider\, consagrado e marginal\, é aqui também a possibilidade de pensar posições estratégicas de não inserção reordenadoras dos campos cultural e estético enquanto campos de ação. \nSe\, por um lado\, marginalidade corresponde ao tipo de imposição sobre um corpo a determinado espaço político e social\, o sujeito marginal\, por outro ângulo\, vai de encontro a táticas escolhidas por se colocar estrategicamente à margem e negar modelos de produção diretamente associados a canais estabelecidos. Reflexo de uma movimentação tanto de sobrevivência quanto do engajamento poético que desvia a diretrizes calcadas em projetos domesticantes e civilizadores\, a arapuca é um recurso de resposta. São as alternativas parcialmente fracassadas de transformação\, mas que são mesmo o horizonte ao alcance. E\, se a armadilha consiste no recurso primordial da farsa\, a arapuca\, por sua vez\, confronta o inimigo dispondo dos seus próprios artifícios. Mas é dessa forma\, no fim\, como se move qualquer vilão. \n“Arapuca” tem abertura na quinta-feira\, 1° de agosto\, às 17h\, e segue em cartaz até 24 de agosto.
URL:https://artequeacontece.com.br/evento/arapuca-na-aura-galeria/
LOCATION:Aura Galeria\, Rua da Consolação\, 2767 - Jardins\, São Paulo\, SP\, Brasil
CATEGORIES:São Paulo
ATTACH;FMTTYPE=image/png:https://artequeacontece.com.br/wp-content/uploads/2024/08/Diego-Crux.-Esse-corpo-de-que-tu-vAa-A©-apenas-a-imagem-do-que-sou-2019.-2.png
END:VEVENT
END:VCALENDAR