BEGIN:VCALENDAR
VERSION:2.0
PRODID:-//Arte Que Acontece - ECPv6.15.20//NONSGML v1.0//EN
CALSCALE:GREGORIAN
METHOD:PUBLISH
X-WR-CALNAME:Arte Que Acontece
X-ORIGINAL-URL:https://artequeacontece.com.br
X-WR-CALDESC:Eventos para Arte Que Acontece
REFRESH-INTERVAL;VALUE=DURATION:PT1H
X-Robots-Tag:noindex
X-PUBLISHED-TTL:PT1H
BEGIN:VTIMEZONE
TZID:America/Sao_Paulo
BEGIN:STANDARD
TZOFFSETFROM:-0300
TZOFFSETTO:-0300
TZNAME:-03
DTSTART:20240101T000000
END:STANDARD
END:VTIMEZONE
BEGIN:VEVENT
DTSTART;TZID=America/Sao_Paulo:20250923T100000
DTEND;TZID=America/Sao_Paulo:20260111T193000
DTSTAMP:20260422T071440
CREATED:20250918T155712Z
LAST-MODIFIED:20250918T155712Z
UID:64977-1758621600-1768159800@artequeacontece.com.br
SUMMARY:"Appiani. Il Neoclassicismo a Milano" no Palazzo Reale
DESCRIPTION:Andrea Appiani\, “Juno assistida pelas Graças (Toalete de Juno)”\, c. 1810-1812. Bréscia\, Pinacoteca Tosio Martinengo © Archivio Fotografico Musei Civici di Brescia-Fotostudio Rapuzzi\n\n\n\n \nDe 23 de setembro de 2025 a 11 de janeiro de 2026\, o Palazzo Reale recebe Appiani. Il Neoclassicismo a Milano em Milão\, uma importante mostra dedicada a Andrea Appiani (Milão\, 1754 – 1817)\, figura central do Neoclassicismo italiano e intérprete eminente da pintura entre o Iluminismo e a era napoleônica. \nPor meio de uma cuidadosa seleção de mais de 100 obras\, provenientes de coleções públicas e privadas italianas e estrangeiras\, a exposição reconstrói o percurso artístico de Andrea Appiani\, revelando ao público a riqueza e o dinamismo da Milão neoclássica\, da qual foi pintor-símbolo e “primeiro pintor” do Reino da Itália. \nA iniciativa é apoiada pela Fondazione Bracco e pela Biofer Spa e integra o programa da Olimpíada Cultural de Milão-Cortina 2026. \nA mostra é acompanhada por um catálogo abrangente publicado pela Electa\, que reúne ensaios introdutórios\, análises críticas e fichas científicas das obras expostas.
URL:https://artequeacontece.com.br/evento/appiani-il-neoclassicismo-a-milano-no-palazzo-reale/
LOCATION:Palazzo Reale\, Piazza del Duomo\, 12\, Milão\, Itália
CATEGORIES:Milão
ATTACH;FMTTYPE=image/png:https://artequeacontece.com.br/wp-content/uploads/2025/09/immagine-2025-09-05-065216.png
END:VEVENT
END:VCALENDAR