BEGIN:VCALENDAR
VERSION:2.0
PRODID:-//Arte Que Acontece - ECPv6.15.20//NONSGML v1.0//EN
CALSCALE:GREGORIAN
METHOD:PUBLISH
X-WR-CALNAME:Arte Que Acontece
X-ORIGINAL-URL:https://artequeacontece.com.br
X-WR-CALDESC:Eventos para Arte Que Acontece
REFRESH-INTERVAL;VALUE=DURATION:PT1H
X-Robots-Tag:noindex
X-PUBLISHED-TTL:PT1H
BEGIN:VTIMEZONE
TZID:America/Sao_Paulo
BEGIN:STANDARD
TZOFFSETFROM:-0300
TZOFFSETTO:-0300
TZNAME:-03
DTSTART:20220101T000000
END:STANDARD
END:VTIMEZONE
BEGIN:VEVENT
DTSTART;TZID=America/Sao_Paulo:20230624T100000
DTEND;TZID=America/Sao_Paulo:20240218T180000
DTSTAMP:20260422T053432
CREATED:20230623T165132Z
LAST-MODIFIED:20230624T152825Z
UID:41716-1687600800-1708279200@artequeacontece.com.br
SUMMARY:"Antonio Obá: Revoada" na Pina Contemporânea
DESCRIPTION:A exposição de Antonio Obá olha para a trajetória do artista que\, em vinte anos de carreira\, difundiu suas obras em coleções públicas e privadas no Brasil e no exterior. Seu trabalho é constituído por três importantes pilares\, que conduzem a narrativa da exposição: a rememoração de acontecimentos históricos\, a atribuição de novos significados a esses episódios e o processo educativo. A exposição apresenta um conjunto de pinturas com temáticas voltadas para a infância\, e uma instalação inédita (Revoada)\, pensada a partir do contexto do museu — a Pinacoteca nasceu originalmente para ser uma escola. A obra consiste em 200 pares de mãos de crianças moldadas em resina em oficinas oferecidas pelo artista na Ocupação 9 de Julho (Movimento Sem Teto do Centro)\, em duas escolas particulares e no ateliê da Pina Contemporânea. Além da instalação\, 20 pinturas se organizam a partir do tema da infância e de um movimento vertical\, muito presente no trabalho de Obá. No percurso de revisitar momentos da história\, o artista inscreve a tragédia e a violência em um tempo mítico\, transformando os personagens históricos em entidades\, arquétipos que podem rever sua posição na própria história. A infância em “Antônio Obá” não é ingênua. As crianças-personagens do artista são agentes do seu tempo\, conscientes e capazes de transformar o mundo.
URL:https://artequeacontece.com.br/evento/antonio-oba-na-pina-contemporanea/
LOCATION:Pina Contemporânea\, Bom Retiro São Paulo SP\, São Paulo\, São Paulo\, Brasil
CATEGORIES:São Paulo
ATTACH;FMTTYPE=image/jpeg:https://artequeacontece.com.br/wp-content/uploads/2023/06/captura-de-tela-2023-06-22-174252-2-1-1.jpg
END:VEVENT
END:VCALENDAR