BEGIN:VCALENDAR
VERSION:2.0
PRODID:-//Arte Que Acontece - ECPv6.15.20//NONSGML v1.0//EN
CALSCALE:GREGORIAN
METHOD:PUBLISH
X-WR-CALNAME:Arte Que Acontece
X-ORIGINAL-URL:https://artequeacontece.com.br
X-WR-CALDESC:Eventos para Arte Que Acontece
REFRESH-INTERVAL;VALUE=DURATION:PT1H
X-Robots-Tag:noindex
X-PUBLISHED-TTL:PT1H
BEGIN:VTIMEZONE
TZID:America/Sao_Paulo
BEGIN:STANDARD
TZOFFSETFROM:-0300
TZOFFSETTO:-0300
TZNAME:-03
DTSTART:20230101T000000
END:STANDARD
END:VTIMEZONE
BEGIN:VEVENT
DTSTART;TZID=America/Sao_Paulo:20240124T110000
DTEND;TZID=America/Sao_Paulo:20240302T190000
DTSTAMP:20260422T054202
CREATED:20240215T203657Z
LAST-MODIFIED:20240215T203702Z
UID:46407-1706094000-1709406000@artequeacontece.com.br
SUMMARY:Anselm Kiefer na White Cube
DESCRIPTION:Anselm Kiefer\, Marmorklippen\, 2015\n\n\n\nEssa exposição aborda a aquarela\, muitas vezes subestimada em comparação ao óleo\, destacando sua riqueza e complexidade como meio artístico. O seu apogeu ocorreu no século XVIII\, quando se tornou popular entre as mulheres letradas como uma forma de expressão delicada e livre. A mostra examina como Kiefer\, um artista contemporâneo\, reinterpreta a aquarela em contextos emocionais e políticos\, destacando sua intimidade e potencial expressivo. A mostra também compara as representações femininas na arte\, desde a passividade até uma perspectiva mais assertiva e erótica\, destacando as múltiplas interpretações da sexualidade feminina.
URL:https://artequeacontece.com.br/evento/anselm-kiefer-na-white-cube/
LOCATION:White Cube Paris\, 10 Avenue Matignon\, Paris\, França
CATEGORIES:Paris
ATTACH;FMTTYPE=image/jpeg:https://artequeacontece.com.br/wp-content/uploads/2024/02/Anselm-Kiefer-Marmorklippen-2015.jpg
END:VEVENT
END:VCALENDAR