BEGIN:VCALENDAR
VERSION:2.0
PRODID:-//Arte Que Acontece - ECPv6.15.20//NONSGML v1.0//EN
CALSCALE:GREGORIAN
METHOD:PUBLISH
X-WR-CALNAME:Arte Que Acontece
X-ORIGINAL-URL:https://artequeacontece.com.br
X-WR-CALDESC:Eventos para Arte Que Acontece
REFRESH-INTERVAL;VALUE=DURATION:PT1H
X-Robots-Tag:noindex
X-PUBLISHED-TTL:PT1H
BEGIN:VTIMEZONE
TZID:America/Sao_Paulo
BEGIN:STANDARD
TZOFFSETFROM:-0300
TZOFFSETTO:-0300
TZNAME:-03
DTSTART:20230101T000000
END:STANDARD
END:VTIMEZONE
BEGIN:VEVENT
DTSTART;TZID=America/Sao_Paulo:20240803T110000
DTEND;TZID=America/Sao_Paulo:20241222T200000
DTSTAMP:20260422T104318
CREATED:20240805T142439Z
LAST-MODIFIED:20240805T143602Z
UID:50015-1722682800-1734897600@artequeacontece.com.br
SUMMARY:"Anne Frank: deixem-nos ser" na Unibes Cultural
DESCRIPTION:Anne Frank\, 1942. Coleção de fotos da Anne Frank Stichting\, Amsterdam.\n\n\n\n\nA exposição estabelece um diálogo sensível entre temas contemporâneos – tais como a valorização da diversidade\, direitos humanos\, questões indígenas\, de gênero e raciais – apresentados por meio de obras de relevantes artistas nacionais e internacionais\, e a celebração da vida de Anne Frank\, contextualização histórica e imersão no Anexo Secreto\, através de materiais fornecidos pela Anne Frank House Amsterdã. \nEm um percurso expositivo imersivo\, a mostra utiliza O Diário de Anne Frank como obra fundamental\, que revisitado no presente torna-se objeto de memória\, um potencial manifesto humanista e poderosa declaração ética. Marcando 80 anos após o último registro de Anne em seu diário\, no dia 1 de agosto de 1944\, e poucos dias antes do esconderijo ser descoberto e invadido\, quando a família Frank foi presa\, demonstra-se a força de sua memória e o compromisso em transmitir seu legado às próximas gerações. \nA reprodução fiel do Anexo Secreto é uma iniciativa inédita no Brasil\, um convite à imersão num espaço de memória reconstituído\, com objetos e marcas pessoais mencionadas em passagens do Diário. De relato pessoal\, tornou-se uma obra fundamental na trajetória da luta pelos direitos humanos\, no combate ao antissemitismo e todas as formas de intolerância\, e na construção da ideia de humanidade. Nessa missão\, felizmente\, Anne não está sozinha. Muitas vozes uniram-se a ela. \nE\, assim\, chegamos a um momento do hoje\, um espaço que abriga um conjunto de obras de arte originais de grandes nomes do cenário cultural nacional\, como Claudia Andujar\, Leonilson\, Flávio Cerqueira\, Nino Cais\, Eustáquio Neves\, Anna Bella Geiger\, Gê Viana\, Erich Brill\, entre outros — em empréstimos do MAM (Museu de Arte Moderna)\, Pinacoteca de São Paulo e galerias de arte. Em diálogo com a essência do Diário\, vozes atuais se unem à de Anne na exigência sempre urgente da existência\, da liberdade e da vida\, buscando expandir as possibilidades de empatia\, os paralelos possíveis e as identificações. \nA exposição conta ainda com um programa educativo personalizado para cada faixa etária\, com metodologia única desenvolvida pela Inspirar-te para proporcionar uma experiência criativa e única. Tais conteúdos complementares e acessíveis estão disponíveis na Plataforma Musea\, por isso recomendamos baixar o aplicativo no celular para aproveitar ao máximo a exposição. \nCom curadoria liderada por Carlos Reiss\, curador-chefe e coordenador-geral do Museu do Holocausto de Curitiba\, Eduardo Duíque\, curador de artes\, e a idealizadora Priscilla Parodi\, a mostra é idealizada pela Associação Inspirar-te\, e realizada pela Unibes Cultural e Ministério da Cultura.
URL:https://artequeacontece.com.br/evento/anne-frank-deixem-nos-ser-na-unibes-cultural/
LOCATION:Unibes Cultural\, R. Oscar Freire\, 2500 - Sumaré\, São Paulo\, SP\, Brasil
CATEGORIES:São Paulo
ATTACH;FMTTYPE=image/jpeg:https://artequeacontece.com.br/wp-content/uploads/2024/08/Anne-Frank-1942_Colecao-de-fotos-da-Anne-Frank-Stichting-Amsterdam-1-1.jpg
END:VEVENT
END:VCALENDAR