BEGIN:VCALENDAR
VERSION:2.0
PRODID:-//Arte Que Acontece - ECPv6.15.20//NONSGML v1.0//EN
CALSCALE:GREGORIAN
METHOD:PUBLISH
X-WR-CALNAME:Arte Que Acontece
X-ORIGINAL-URL:https://artequeacontece.com.br
X-WR-CALDESC:Eventos para Arte Que Acontece
REFRESH-INTERVAL;VALUE=DURATION:PT1H
X-Robots-Tag:noindex
X-PUBLISHED-TTL:PT1H
BEGIN:VTIMEZONE
TZID:America/Sao_Paulo
BEGIN:STANDARD
TZOFFSETFROM:-0300
TZOFFSETTO:-0300
TZNAME:-03
DTSTART:20240101T000000
END:STANDARD
END:VTIMEZONE
BEGIN:VEVENT
DTSTART;TZID=America/Sao_Paulo:20250614T103000
DTEND;TZID=America/Sao_Paulo:20250921T180000
DTSTAMP:20260422T093237
CREATED:20250612T023251Z
LAST-MODIFIED:20250612T023251Z
UID:63177-1749897000-1758477600@artequeacontece.com.br
SUMMARY:"Anna Maria Maiolino. Je suis là. Estou Aqui." no Musée Picasso Paris
DESCRIPTION:Anna Maria Maiolino\, X\, da série Fotopoemação\, 1975. Cortesia Galeria Luisa Strina\n\n\n\n\nDe 14 de junho a 21 de setembro de 2025\, o Musée national Picasso-Paris apresenta “Anna Maria Maiolino. Je suis là. Estou Aqui.”\, primeira exposição individual na França da artista brasileira. Organizada no âmbito da Temporada Cultural do Brasil na França (sob curadoria geral de Emilio Kalil)\, a mostra é um dos pontos altos da programação artística brasileira em Paris. A curadoria é assinada por Sébastien Delot e Fernanda Brenner. Recém-premiada com o Leão de Ouro pelo conjunto de sua obra na Bienal de Veneza de 2024\, Anna Maria Maiolino apresenta cerca de cem trabalhos — entre desenhos inéditos\, esculturas\, pinturas e vídeos. \nComo parte da temporada cultural cruzada França/Brasil\, o Musée national Picasso-Paris recebe uma proposta de Anna Maria Maiolino\, sucedendo nomes como Faith Ringgold e Sophie Calle em uma genealogia de mulheres artistas potentes. Esta é a primeira exposição na França dedicada a essa figura central da cena artística brasileira. A diversidade de suportes e técnicas que ela utiliza em sua obra\, assim como seu naturalismo orgânico\, traçam fios invisíveis que a conectam discretamente à obra de Picasso. “Não se trata de uma retrospectiva que me colocaria numa vitrine histórica. Este título afirma que ainda estou aqui\, ainda em atividade e engajada num diálogo vital. As obras expostas não são objetos passivos\, mas presenças ativas que continuam gerando conversas”\, afirma Anna Maria Maiolino.
URL:https://artequeacontece.com.br/evento/anna-maria-maiolino-je-suis-la-estou-aqui-no-musee-picasso-paris/
LOCATION:Musée Picasso Paris\, 5 rue de Thorigny\, Paris\, França
CATEGORIES:Paris
ATTACH;FMTTYPE=image/png:https://artequeacontece.com.br/wp-content/uploads/2025/06/unnamed-7.png
END:VEVENT
END:VCALENDAR