BEGIN:VCALENDAR
VERSION:2.0
PRODID:-//Arte Que Acontece - ECPv6.15.20//NONSGML v1.0//EN
CALSCALE:GREGORIAN
METHOD:PUBLISH
X-WR-CALNAME:Arte Que Acontece
X-ORIGINAL-URL:https://artequeacontece.com.br
X-WR-CALDESC:Eventos para Arte Que Acontece
REFRESH-INTERVAL;VALUE=DURATION:PT1H
X-Robots-Tag:noindex
X-PUBLISHED-TTL:PT1H
BEGIN:VTIMEZONE
TZID:America/Sao_Paulo
BEGIN:STANDARD
TZOFFSETFROM:-0300
TZOFFSETTO:-0300
TZNAME:-03
DTSTART:20220101T000000
END:STANDARD
END:VTIMEZONE
BEGIN:VEVENT
DTSTART;TZID=America/Sao_Paulo:20230601T110000
DTEND;TZID=America/Sao_Paulo:20230601T190000
DTSTAMP:20260422T072554
CREATED:20230601T111500Z
LAST-MODIFIED:20230601T111350Z
UID:41105-1685617200-1685646000@artequeacontece.com.br
SUMMARY:"Andy Warhol: Silver Screen" na Gagosian Paris
DESCRIPTION:Andy Warhol: Silver Screen é uma exposição de três pinturas iniciais de Andy Warhol de 1963\, organizada pela galeria em parceria com Jessica Beck\, ex-curadora do Museu Andy Warhol\, em Pittsburgh. Há sessenta anos\, no verão de 1963\, Warhol pensava tanto como pintor quanto como cineasta\, produzindo telas serigrafadas com múltiplas imagens. Foi nessa época que ele recebeu sua primeira câmera (uma Bolex de 16mm que ele usou posteriormente para os Screen Tests\, retratos cinematográficos de amigos e “superstars”) e suas pinturas começaram a espelhar as repetições das tiras de filme. Ao mesmo tempo\, Warhol trabalhava em um antigo quartel de bombeiros na região leste de Manhattan\, eventualmente contratando o poeta Gerard Malanga para completar algumas de suas primeiras e significativas pinturas serigrafadas\, como Disasters\, Silver Elvis e Silver Liz. Um ano depois\, Warhol mudou-se para um espaço maior. Lá\, Billy Name\, um designer de iluminação que se tornou seu assistente e fotógrafo\, revestiu o interior com papel alumínio e tinta spray\, criando um ambiente reflexivo para acontecimentos\, performances\, filmes e produção de arte. A Silver Factory nasceu. No momento em que Warhol produziu Silver Liz\, Elizabeth Taylor havia se tornado a personificação do glamour de Hollywood\, mas também estava nas notícias devido a escândalos e doenças. Isso a tornou uma perfeita sujeita para o artista. O retrato Ethel Scull 36 Times foi feito a partir das tiras animadas produzidas em cabines fotográficas. Ethel Scull retrata a socialite homônima que\, junto com seu marido Robert Scull\, montou uma das primeiras grandes coleções americanas de arte pop e minimalista. Por fim\, em Tunafish Disaster\, Warhol se concentra em duas mulheres famosas pela estranheza de suas mortes causadas por latas de atum contaminado. Em onze pinturas derivadas da mesma fonte\, Warhol utilizou um artigo da revista Newsweek de 1963 que associava as fotografias das vítimas a uma manchete sombria. Como parte da série Death and Disaster\, essas obras comentam sobre o efeito entorpecedor de imagens grotescas na mídia. Nos três trabalhos expostos em Paris\, Warhol apresenta uma visão complexa das promessas e perigos da fama.
URL:https://artequeacontece.com.br/evento/andy-warhol-silver-screen-na-gagosian-paris/
LOCATION:Bourse de Commerce\, 2 Rue de Viarmes Paris\, Paris\, Paris\, França
CATEGORIES:Paris
ATTACH;FMTTYPE=image/jpeg:https://artequeacontece.com.br/wp-content/uploads/2023/05/awa-sil-abs-77104-f-1-1-1.jpg
END:VEVENT
END:VCALENDAR