BEGIN:VCALENDAR
VERSION:2.0
PRODID:-//Arte Que Acontece - ECPv6.15.20//NONSGML v1.0//EN
CALSCALE:GREGORIAN
METHOD:PUBLISH
X-WR-CALNAME:Arte Que Acontece
X-ORIGINAL-URL:https://artequeacontece.com.br
X-WR-CALDESC:Eventos para Arte Que Acontece
REFRESH-INTERVAL;VALUE=DURATION:PT1H
X-Robots-Tag:noindex
X-PUBLISHED-TTL:PT1H
BEGIN:VTIMEZONE
TZID:America/Sao_Paulo
BEGIN:STANDARD
TZOFFSETFROM:-0300
TZOFFSETTO:-0300
TZNAME:-03
DTSTART:20230101T000000
END:STANDARD
END:VTIMEZONE
BEGIN:VEVENT
DTSTART;TZID=America/Sao_Paulo:20240316T100000
DTEND;TZID=America/Sao_Paulo:20240413T190000
DTSTAMP:20260422T060131
CREATED:20240315T161832Z
LAST-MODIFIED:20240315T161836Z
UID:47312-1710583200-1713034800@artequeacontece.com.br
SUMMARY:"Amilcar de Castro e Kimi Nii: Corte\, dobra\, encaixe" na Millan
DESCRIPTION:Kimi Nii\, Esfera IV (detalhe)\, 2021. Foto: Ana Pigosso\n\n\n\nA exposição Corte\, dobra\, encaixe destaca a convergência entre as obras de Amilcar de Castro (1920\, Paraisópolis\, MG – 2002\, Belo Horizonte\, MG)\, famoso por suas esculturas em aço corten\, e de Kimi Nii (1947\, Hiroshima\, Japão)\, cuja prática se dá na cerâmica. Sob a curadoria de Antonio Gonçalves Filho\, a mostra ocupa o espaço da Millan no número 1.430 da rua Fradique Coutinho\, em Pinheiros\, São Paulo. A abertura será em 16 de março\, sábado\, das 11h às 15h. \n\n\n\nA curadoria destaca o propósito estrutural compartilhado por Amilcar de Castro e Kimi Nii —o corte nas peças revela uma intenção marcante\, tornando visíveis novas formas tridimensionais nos espaços vazios\, que se alteram à medida que o espectador circula as obras. \n\n\n\nAlém disso\, ambos criam relações com a luz em seus trabalhos. Enquanto Amilcar utiliza fendas e incisões no ferro para permitir a entrada da luz\, Kimi fecha suas esculturas de cerâmica\, utilizando a luz para destacar formas geométricas por meio de encaixes. Apesar das aparentes diferenças\, ambos compartilham o conceito de criar obras que são portais para a luz\, interagindo com o espaço e sugerindo novas configurações. \n\n\n\nEntre as obras em exposição\, Kimi apresenta cerâmicas que chegam a medir até 77 cm de altura em uma única peça\, demonstrando o domínio da artista. Ela trabalha com uma técnica em que o forno onde a argila é queimada chega a 1300 °C\, conferindo um efeito semelhante com a oxidação do ferro ao esmalte que reveste as esculturas. \n\n\n\nEnquanto alguns trabalhos da artista japonesa têm dimensões relativamente grandes dados os limites do suporte\, entre a seleção de Amilcar há pequenas peças que não passam de 15 cm de altura. No entanto\, também são mostrados exemplares de densas esculturas do mineiro\, algumas em que as chapas de aço atingem mais de dez centímetros de espessura e chegam a pesar 640 quilos. \n\n\n\nAlém de obras dispostas diretamente no chão\, a mostra conta com uma longa base\, de cerca de 11 m de comprimento\, que percorre praticamente toda a extensão da sala expositiva — sobre ela\, as obras de Kimi e Amilcar convivem lado a lado\, permitindo que o visitante encontre as relações e os diálogos entre as produções. \n\n\n\nSimultaneamente a Corte\, dobra\, encaixe\, a galeria recebe a exposição Ser híbrido\, do escultor gaúcho Saint Clair Cemin\, cuja data de encerramento também é em 13 de abril.
URL:https://artequeacontece.com.br/evento/amilcar-de-castro-e-kimi-nii-corte-dobra-encaixe-na-millan/
LOCATION:Almeida & Dale\, Rua Fradique Coutinho 1360/1430\, São Paulo\, SP
CATEGORIES:São Paulo
ATTACH;FMTTYPE=image/jpeg:https://artequeacontece.com.br/wp-content/uploads/2024/03/Kimi-Nii-5a-foto-Ana-Pigosso.jpg
END:VEVENT
END:VCALENDAR