BEGIN:VCALENDAR
VERSION:2.0
PRODID:-//Arte Que Acontece - ECPv6.15.20//NONSGML v1.0//EN
CALSCALE:GREGORIAN
METHOD:PUBLISH
X-WR-CALNAME:Arte Que Acontece
X-ORIGINAL-URL:https://artequeacontece.com.br
X-WR-CALDESC:Eventos para Arte Que Acontece
REFRESH-INTERVAL;VALUE=DURATION:PT1H
X-Robots-Tag:noindex
X-PUBLISHED-TTL:PT1H
BEGIN:VTIMEZONE
TZID:America/Sao_Paulo
BEGIN:STANDARD
TZOFFSETFROM:-0300
TZOFFSETTO:-0300
TZNAME:-03
DTSTART:20240101T000000
END:STANDARD
END:VTIMEZONE
BEGIN:VEVENT
DTSTART;TZID=America/Sao_Paulo:20250209T110000
DTEND;TZID=America/Sao_Paulo:20250504T180000
DTSTAMP:20260422T055947
CREATED:20250220T145206Z
LAST-MODIFIED:20250220T145206Z
UID:61184-1739098800-1746381600@artequeacontece.com.br
SUMMARY:"Alice Coltrane\, Monument Eternal" no Hammer Museum
DESCRIPTION:Alice Coltraine – Imagem de @hammer_museum\, via Instagram\nA exposição Alice Coltrane\, Monument Eternal é inspirada na vida e no legado da musicista de jazz\, líder espiritual e mãe Alice Coltrane (nascida em 1937\, Detroit). O título faz referência ao seu livro Monument Eternal (1977)\, no qual ela refletiu sobre sua recente descoberta espiritual\, a perda de seu marido\, o saxofonista John Coltrane\, e o caminho para a cura e o autoconhecimento. \nA exposição reúne obras de artistas contemporâneos americanos ao lado de documentos do arquivo pessoal de Coltrane. Com uma ampla variedade de mídias—incluindo vídeo\, instalação\, performance e escultura—além de correspondências manuscritas\, gravações de áudio inéditas e registros audiovisuais raros\, Alice Coltrane\, Monument Eternal explora temas como transcendência espiritual\, inovação sonora e intimidade arquitetônica\, celebrando a produção cultural e a prática de Coltrane. \nA mostra faz parte da iniciativa The Year of Alice e é realizada em parceria com a John & Alice Coltrane Home.
URL:https://artequeacontece.com.br/evento/alice-coltrane-monument-eternal-no-hammer-museum/
LOCATION:Hammer Museum\, 10899 Wilshire Blvd Westwood\, Los Angeles\, Califórnia\, Estados Unidos
CATEGORIES:Los Angeles
ATTACH;FMTTYPE=image/jpeg:https://artequeacontece.com.br/wp-content/uploads/2025/02/Snapinst.app_474885406_472811079215568_3665630362741623545_n_1080.jpg
END:VEVENT
END:VCALENDAR