BEGIN:VCALENDAR
VERSION:2.0
PRODID:-//Arte Que Acontece - ECPv6.15.20//NONSGML v1.0//EN
CALSCALE:GREGORIAN
METHOD:PUBLISH
X-WR-CALNAME:Arte Que Acontece
X-ORIGINAL-URL:https://artequeacontece.com.br
X-WR-CALDESC:Eventos para Arte Que Acontece
REFRESH-INTERVAL;VALUE=DURATION:PT1H
X-Robots-Tag:noindex
X-PUBLISHED-TTL:PT1H
BEGIN:VTIMEZONE
TZID:America/Sao_Paulo
BEGIN:STANDARD
TZOFFSETFROM:-0300
TZOFFSETTO:-0300
TZNAME:-03
DTSTART:20240101T000000
END:STANDARD
END:VTIMEZONE
BEGIN:VEVENT
DTSTART;TZID=America/Sao_Paulo:20250320T090000
DTEND;TZID=America/Sao_Paulo:20250521T180000
DTSTAMP:20260422T060456
CREATED:20250326T011043Z
LAST-MODIFIED:20250505T181216Z
UID:61821-1742461200-1747850400@artequeacontece.com.br
SUMMARY:"Alegria no Morro" de Toz Viana na Galeria de Arte Solar
DESCRIPTION:Obra de Toz Viana – Divulgação\nA Galeria de Arte Solar\, no Pavão Pavãozinho\, inaugura a primeira exposição do ano com a obra de Toz Viana. A instalação “Alegria no Morro” traz um dos personagens mais conhecidos do trabalho do artista: o Vendedor de Alegria. Inspirado nos ambulantes que circulam pelas praias e parques do Brasil com bolas coloridas\, ele tem corpo alongado e cabeça formada por inúmeras bolas que o fazem flutuar. Na mostra\, com curadoria de Cammila Ferreira\, o público conhecerá de perto o boneco gigante do personagem apresentado em Paris e no MAC de Niterói. A instalação contempla também grafitti\, tudo pensado sob medida para o espaço da galeria que fica dentro do Solar Meninos de Luz\, organização civil e filantrópica\, que promove educação e assistência social no Pavão-Pavãozinho e Cantagalo. A abertura foi no dia 20 de março e a mostra pode ser visitada até 11 de maio. A Galeria de Arte Solar conta com patrocínio do Belmond Copacabana Palace e Estácio\, através da Lei Municipal de Incentivo à Cultura (ISS RJ). \nCom a missão de democratizar o acesso à cultura e à educação\, aproximando o público de comunidades ao universo da arte\, a Galeria de Arte Solar convidou um dos artistas urbanos mais queridos do país para abrir a programação de 2025. Tomaz Viana\, o Toz\, é dedicado à pesquisa e experimentação do graffiti e à criação de telas e objetos\, já tendo participado de várias exposições coletivas e individuais\, no Brasil e no exterior. Ao longo da sua carreira\, criou diversos personagens cujas cores e padronagens se espalham nos muros das cidades e das instituições culturais. O “Vendedor de Alegrias” é um dos mais famosos. “Ele representa os vendedores ambulantes de bolas\, de balas e picolés que dão vida às nossas cidades. E é dos morros\, das comunidades que eles saem. Nada mais justo do que trazer o Vendedor de Alegrias para cá”\, explica Toz. \nSegundo a curadora da exposição\, o Vendedor de Alegria é um ser nômade que vive espalhando muita cor por onde passa. “O desejo dele é semear alegria\, gentileza\, diversidade\, cuidado e respeito às pessoas. Depois de passar por Paris\, Madrid\, Bogotá\, Niterói\, ele chega agora ao Solar Meninos de Luz e convida todos a entrar em seu universo”\, conta ela. “Trazer para dentro das comunidades do Pavão Pavãozinho e do Cantagalo uma exposição tão bacana quanto a do Toz é\, acima de tudo\, um convite a uma cidade mais inclusiva”\, diz Guilherme Maltaroli\, diretor do Solar. “Essa exposição é um chamado a resgatarmos o que temos de melhor\, o que nos define como cariocas: nossa alegria\, descontração e nosso afeto”\, afirma Matilde Marie Pereira\, curadora da galeria. \nA Galeria de Arte Solar é a primeira e única galeria estruturada com curadoria e calendário de mostras anual\, situada em uma comunidade no Rio de Janeiro. A sala\, inaugurada em 2007 já realizou mais de 40 exposições. Só nos dois últimos anos\, recebeu mais de nove mil visitantes. As mostras duram dois meses em média e são intercaladas entre as dos artistas convidados pelo curador e as dos alunos do Solar Meninos de Luz. Todo artista que expõe na galeria é convidado a ministrar uma oficina aos alunos\, com o mesmo tema e técnica da sua própria mostra.
URL:https://artequeacontece.com.br/evento/alegria-no-morro-de-toz-viana-na-galeria-de-arte-solar/
LOCATION:Galeria de Arte Solar\, Rua Saint Roman\, 149 – Pavão Pavãozinho – Copacabana\, Rio de Janeiro\, RJ\, Brazil
CATEGORIES:Rio de Janeiro
ATTACH;FMTTYPE=image/jpeg:https://artequeacontece.com.br/wp-content/uploads/2025/03/Vendedor-de-Alegria_Blinmy-1.jpg
END:VEVENT
END:VCALENDAR