BEGIN:VCALENDAR
VERSION:2.0
PRODID:-//Arte Que Acontece - ECPv6.15.20//NONSGML v1.0//EN
CALSCALE:GREGORIAN
METHOD:PUBLISH
X-WR-CALNAME:Arte Que Acontece
X-ORIGINAL-URL:https://artequeacontece.com.br
X-WR-CALDESC:Eventos para Arte Que Acontece
REFRESH-INTERVAL;VALUE=DURATION:PT1H
X-Robots-Tag:noindex
X-PUBLISHED-TTL:PT1H
BEGIN:VTIMEZONE
TZID:America/Sao_Paulo
BEGIN:STANDARD
TZOFFSETFROM:-0300
TZOFFSETTO:-0300
TZNAME:-03
DTSTART:20240101T000000
END:STANDARD
END:VTIMEZONE
BEGIN:VEVENT
DTSTART;TZID=America/Sao_Paulo:20250916T100000
DTEND;TZID=America/Sao_Paulo:20251031T190000
DTSTAMP:20260422T074212
CREATED:20250917T181306Z
LAST-MODIFIED:20250917T181306Z
UID:64911-1758016800-1761937200@artequeacontece.com.br
SUMMARY:"Alberto Teixeira – 100 anos" na Galeria Berenice Arvani
DESCRIPTION:Alberto Teixeira\, “Azul\, rosa\, vermelho e amarelo”\, 1970\nA Galeria Berenice Arvani inaugura em 16 de setembro\, das 17 às 21h\, a exposição “Alberto Teixeira – 100 anos”\, sob curadoria de João J. Spinelli. A mostra apresenta uma seleção de trabalhos que percorre diferentes momentos da produção do artista\, permitindo ao público redescobrir aspectos centrais de sua trajetória e a evolução de sua linguagem pictórica ao longo de seis décadas. \nAlberto Teixeira iniciou sua carreira em Portugal\, explorando a aquarela para registrar paisagens do Algarve e da região praiana de Estoril. A vivacidade de seus trabalhos iniciais já chamava atenção pela composição e pelo domínio técnico da aquarela\, garantindo sua participação em exposições coletivas importantes em Lisboa e Estoril. Em 1950\, Teixeira e sua família emigraram para o Brasil\, dando início a um novo capítulo de sua obra\, marcado por novas paisagens\, experiências urbanas e encontros com artistas e professores que influenciariam sua evolução estética. \nEntre cursos de gravura no Museu de Arte de São Paulo (MASP) e sessões de modelo vivo na Sala de Arte da Biblioteca Municipal\, sua formação técnica e teórica ganhou novos contornos. Foi também nesse período que integrou o Atelier Abstração\, coletivo do qual fazia parte Samson Flexor. Entre os fundadores\, manteve trocas constantes sobre o abstracionismo em um ambiente de experimentação e diálogo que abriu novos caminhos para sua produção pessoal. Como observa Spinelli: “Os resultados finais foram sínteses formais e conjuntos de relações de contrastes inusitados. Tudo isso\, tão diferente do que eu fazia antes na pintura\, causou bastante impacto\, mas vinha também com o sabor da surpresa\, do inesperado\, da descoberta (…) assim o assunto ou tema que tudo originara passava a ser secundário e a beleza e a harmonia passavam a ser o principal.” \nParticipações em Bienais de São Paulo e viagens à Europa e aos Estados Unidos permitiram a Teixeira contato direto com a produção de artistas como Paul Klee\, Picasso\, Hans Hartung\, Mark Rothko e Karel Appel\, além de experiências com movimentos como Expressionismo Abstrato\, Minimal Art e Pop Art. Esses encontros contribuíram para a ampliação de seu repertório e para a consolidação de um estilo próprio\, em que o equilíbrio entre composição\, cor e transparência nas aquarelas se tornou marca registrada de sua obra. Spinelli reforça a singularidade da pintura de Teixeira: “Uma característica do trabalho de Alberto Teixeira é a fidelidade a uma linguagem do desenho e da pintura. Ela serviu desde o princípio para traduzir um sentimento de inquietação e perplexidade\, quando linhas e cores procuravam assumir uma função interpretativa e de registro psicológico que se ampliaria em toda a evolução das suas realizações.” \nA exposição inclui trabalhos que cobrem diferentes fases do artista\, incluindo pinturas a óleo e aquarelas. O percurso expositivo evidencia tanto a evolução de sua linguagem quanto o diálogo constante entre tradição e inovação em sua produção\, reforçando a relevância de Teixeira para a pintura brasileira e para a história do abstracionismo no país. \nAlém de artista\, Teixeira atuou como professor e formador de novas gerações\, transmitindo seus conhecimentos e técnicas em instituições como a Pontifícia Universidade Católica de Campinas. Sua atuação como educador\, assim como seu olhar atento à história da arte\, consolidou uma carreira marcada pelo estudo\, pela experimentação e pelo compromisso com a reflexão estética. \n0\,85 cm x 1\,15 m – Ano 1970 – R$ 35 Mil.
URL:https://artequeacontece.com.br/evento/alberto-teixeira-100-anos-na-galeria-berenice-arvani/
LOCATION:Galeria Berenice Arvani\, R. Oscar Freire\, 540 - Jardim Paulista\, São Paulo\, SP\, Brazil
CATEGORIES:São Paulo
ATTACH;FMTTYPE=image/jpeg:https://artequeacontece.com.br/wp-content/uploads/2025/09/Alberto-Teixeira-Azul-rosa-vermelho-e-amarelo-Oleo-sobre-tela-1970-115-x-85-cm-2.jpg
END:VEVENT
END:VCALENDAR