BEGIN:VCALENDAR
VERSION:2.0
PRODID:-//Arte Que Acontece - ECPv6.15.20//NONSGML v1.0//EN
CALSCALE:GREGORIAN
METHOD:PUBLISH
X-WR-CALNAME:Arte Que Acontece
X-ORIGINAL-URL:https://artequeacontece.com.br
X-WR-CALDESC:Eventos para Arte Que Acontece
REFRESH-INTERVAL;VALUE=DURATION:PT1H
X-Robots-Tag:noindex
X-PUBLISHED-TTL:PT1H
BEGIN:VTIMEZONE
TZID:America/Sao_Paulo
BEGIN:STANDARD
TZOFFSETFROM:-0300
TZOFFSETTO:-0300
TZNAME:-03
DTSTART:20230101T000000
END:STANDARD
END:VTIMEZONE
BEGIN:VEVENT
DTSTART;TZID=America/Sao_Paulo:20240914T100000
DTEND;TZID=America/Sao_Paulo:20241019T190000
DTSTAMP:20260419T085853
CREATED:20240912T180428Z
LAST-MODIFIED:20240912T181152Z
UID:51135-1726308000-1729364400@artequeacontece.com.br
SUMMARY:"Ágora" de Claudio Alvarez na Galeria Lume
DESCRIPTION:Claudio Alvarez\, LÚMINA. Imagem: Divulgação / Cortesia Galeria Lume\n\n\n\n\nNo sábado\, 14 de setembro\, a Galeria Lume inaugura a exposição individual “Ágora” do artista plástico Claudio Alvarez\, com curadoria de Paulo Kassab Jr. A mostra apresenta 10 obras em aço inoxidável\, acetato\, tecido e espelhos\, além de estudos\, destacando o interesse de Alvarez pela interação entre movimento e percepção visual por meio de esculturas que provocam e envolvem o espectador na dúvida. “Persegui a ideia de criar no trabalho uma ponte ou passagem que conectasse o real ao ilusório de maneira que estes mundos fossem percebidos de forma contínua\, sem divisão entre real e fictício.”\, relata. E há distinção? \nPara o curador\, Claudio Alvarez é um disseminador de incertezas\, sua obra sugere uma perspectiva de mundo indefinida em que a consciência está em constante interação com uma realidade fluida\, como se a dúvida fosse inseparável da experiência humana\, lugar da perplexidade que nos arrasta ao abismo da existência. \nEm suas obras a interação com o visitante é essencial\, ora desafiam os sentidos com jogos de espelhos e ilusões ópticas\, ora encantam pela leveza e fluidez dos materiais. Ao confrontar estes espelhos\, não encontramos nosso reflexo\, somos fragmentados em outras verdades que nos desorientam e fascinam. \nEm “Ágora”\, Claudio continua a desafiar a percepção tradicional. Ao propor dispositivos que colocam em conflito os dados da sensibilidade com a apreensão racional da realidade – seja ela o que for\, – Alvarez cria uma metáfora poderosa de como vemos a realidade social. A sua Ágora também é uma gaiola\, sugerindo que\, por mais que busquemos fugir de certos aspectos da realidade\, todos estamos presos a uma realidade social e política\, mesmo no simples ato de olhar para um espelho dentro de uma caixa\, conclui o professor Fabrício Vaz Nunes.
URL:https://artequeacontece.com.br/evento/agora-de-claudio-alvarez-na-galeria-lume/
LOCATION:Galeria Lume\, Rua Gumercindo Saraiva\, 54 - Jardim Europa\, São Paulo\, SP\, Brasil
CATEGORIES:São Paulo
ATTACH;FMTTYPE=image/jpeg:https://artequeacontece.com.br/wp-content/uploads/2024/09/LUMINA_Claudio-Alvarez.jpg
END:VEVENT
END:VCALENDAR