BEGIN:VCALENDAR
VERSION:2.0
PRODID:-//Arte Que Acontece - ECPv6.15.20//NONSGML v1.0//EN
CALSCALE:GREGORIAN
METHOD:PUBLISH
X-WR-CALNAME:Arte Que Acontece
X-ORIGINAL-URL:https://artequeacontece.com.br
X-WR-CALDESC:Eventos para Arte Que Acontece
REFRESH-INTERVAL;VALUE=DURATION:PT1H
X-Robots-Tag:noindex
X-PUBLISHED-TTL:PT1H
BEGIN:VTIMEZONE
TZID:America/Sao_Paulo
BEGIN:STANDARD
TZOFFSETFROM:-0300
TZOFFSETTO:-0300
TZNAME:-03
DTSTART:20220101T000000
END:STANDARD
END:VTIMEZONE
BEGIN:VEVENT
DTSTART;TZID=America/Sao_Paulo:20231207T110000
DTEND;TZID=America/Sao_Paulo:20240302T190000
DTSTAMP:20260419T141702
CREATED:20231211T141536Z
LAST-MODIFIED:20240215T133245Z
UID:45192-1701946800-1709406000@artequeacontece.com.br
SUMMARY:"Abstrações Utópicas" na Danielian Galeria
DESCRIPTION:Em comemoração aos 70 anos da primeira exposição de arte abstrata feita no Brasil\, a Danielian Galeria apresenta a partir do dia 7 de dezembro de 2023\, para convidados\, e do dia seguinte para o público\, a exposição Abstrações Utópicas\, com aproximadamente 80 obras de mais de 50 importantes artistas\, que exploraram o universo da abstração e criaram as bases desta vertente artística\, presente até hoje em nosso cenário cultural\, e berço da arte contemporânea brasileira. A curadoria é de Marcus de Lontra Costa e Rafael Fortes Peixoto\, com consultoria de Anna Bella Geiger\, que além de ter participado da exposição de 1953\, no Quitandinha\, em Petrópolis\, também é autora junto com Fernando Cocchiaralle do livro-referência sobre o assunto. \n\n\n\nAtuante aos 90 anos\, Anna Bella Geiger ganhará uma mostra especial\, inaugurando o segundo andar do pavilhão recém-construído atrás da casa principal na Danielian Galeria\, onde estarão telas e “Macios”\, em que vem desenvolvendo suas experiências no campo da pintura nos últimos 30 anos. \n\n\n\nEntre os artistas da vertente abstração geométrica estão os que integraram nos anos 1950 os grupos Ruptura\, de São Paulo\, Frente e o movimento Neoconcreto\, do Rio de Janeiro\, como Ivan Serpa\, Lygia Clark\, Lygia Pape\, Hélio Oiticica\, Décio Vieira\, Aluísio Carvão\, Franz Weissmann e Abraham Palatnik (Rio)\, e Geraldo de Barros\, Hermelindo Fiaminghi\, Lothar Charoux\, Luiz Sacilotto (São Paulo). Dos artistas informais estarão presentes obras de Antonio Bandeira\, Iberê Camargo\, Fayga Ostrower\, Manabu Mabe\, Maria Polo\, Frans Krajcberg\, Flávio Shiró e Glauco Rodrigues\, entre muitos outros.
URL:https://artequeacontece.com.br/evento/abstracoes-utopicas-na-danielian-galeria/
LOCATION:Danielian Galeria\, 414 Rua Major Rubens Vaz Gávea\, Rio de Janeiro\, Rio de Janeiro\, Brasil
CATEGORIES:Rio de Janeiro
ATTACH;FMTTYPE=image/jpeg:https://artequeacontece.com.br/wp-content/uploads/2023/12/Abstracoes-Utopicas-Antonio-Bandeira-1962-ost-70x110-cm_Credito-Fernando-Costa-1-1.jpg
END:VEVENT
END:VCALENDAR