BEGIN:VCALENDAR
VERSION:2.0
PRODID:-//Arte Que Acontece - ECPv6.15.20//NONSGML v1.0//EN
CALSCALE:GREGORIAN
METHOD:PUBLISH
X-WR-CALNAME:Arte Que Acontece
X-ORIGINAL-URL:https://artequeacontece.com.br
X-WR-CALDESC:Eventos para Arte Que Acontece
REFRESH-INTERVAL;VALUE=DURATION:PT1H
X-Robots-Tag:noindex
X-PUBLISHED-TTL:PT1H
BEGIN:VTIMEZONE
TZID:America/Sao_Paulo
BEGIN:STANDARD
TZOFFSETFROM:-0300
TZOFFSETTO:-0300
TZNAME:-03
DTSTART:20230101T000000
END:STANDARD
END:VTIMEZONE
BEGIN:VEVENT
DTSTART;TZID=America/Sao_Paulo:20240629T100000
DTEND;TZID=America/Sao_Paulo:20240629T190000
DTSTAMP:20260422T054634
CREATED:20240628T162952Z
LAST-MODIFIED:20240628T162954Z
UID:49553-1719655200-1719687600@artequeacontece.com.br
SUMMARY:"Abstrações Utópicas" na Danielian Galeria São Paulo
DESCRIPTION:Helio Oiticica\, Metaesquema 201 (detalhe)\, 1957\n\n\n\nA arte do pós-guerra buscou construir novas utopias a partir do fracasso dos projetos iniciais modernistas. As pesquisas abstratas se desenvolveram em diferentes lugares como resposta a essas necessidades. A migração de artistas e pensadores do velho mundo para às Américas pulverizou uma hegemonia europeia de séculos e transformou ambientes e trajetórias. Além disso\, as inovações industriais mudaram definitivamente as relações de criação\, produção e consumo. \n\n\n\nNo Brasil\, a década de 1950 consolida princípios modernos e uma promessa de nação que teve como símbolo a construção de Brasília. A interação com vanguardas internacionais extinguiu o regionalismo e ampliou as possibilidades no campo da criação abstrata. As experiências mais formalistas se organizaram em grupos\, movimentos\, manifestos e propostas teorizadas. Outros artistas se aventuraram em expressões mais gestuais\, líricas\, ou composicionais\, com um destaque para a contribuição nipônica que incorporou tanto o grafismo dos ideogramas como a consciência do vazio própria da tradição japonesa. \n\n\n\nNo ocaso das utopias modernas\, o século XX se desenvolveu entre grandes conquistas sociais e democracias fragilizadas. As duas únicas telas pintadas por Oscar Niemeyer\, presentes nesta exposição\, retratam a capital federal em ruínas numa impactante imagem premonitória. Realizadas no trágico ano de 1964\, elas ilustram o paradoxo entre o projeto e a realidade. \n\n\n\nEsta mostra\, realizada em 2023 no Rio de Janeiro e em itinerância agora em São Paulo\, reúne produções de diferentes naturezas\, matrizes e inquietações. Como provocação curatorial e objeto de estudo\, são trajetórias fundamentais para a compreensão das bases que sustentam nossa produção artística contemporânea e que fazem parte das nossas tantas histórias da arte. \n\n\n\nMarcus de Lontra Costa e Rafael Fortes Peixoto
URL:https://artequeacontece.com.br/evento/abstracoes-utopicas-na-danielian-galeria-sao-paulo/
LOCATION:Danielian Galeria São Paulo\, Rua Estados Unidos\, 2114 - Jardim América\, São Paulo\, SP\, Brasil
CATEGORIES:São Paulo
ATTACH;FMTTYPE=image/jpeg:https://artequeacontece.com.br/wp-content/uploads/2024/06/Helio-Oiticica-Metaesquema-201-detalhe_guache-sobre-cartao-1957.jpg
END:VEVENT
END:VCALENDAR