BEGIN:VCALENDAR
VERSION:2.0
PRODID:-//Arte Que Acontece - ECPv6.15.20//NONSGML v1.0//EN
CALSCALE:GREGORIAN
METHOD:PUBLISH
X-WR-CALNAME:Arte Que Acontece
X-ORIGINAL-URL:https://artequeacontece.com.br
X-WR-CALDESC:Eventos para Arte Que Acontece
REFRESH-INTERVAL;VALUE=DURATION:PT1H
X-Robots-Tag:noindex
X-PUBLISHED-TTL:PT1H
BEGIN:VTIMEZONE
TZID:America/Sao_Paulo
BEGIN:STANDARD
TZOFFSETFROM:-0300
TZOFFSETTO:-0300
TZNAME:-03
DTSTART:20220101T000000
END:STANDARD
END:VTIMEZONE
BEGIN:VEVENT
DTSTART;TZID=America/Sao_Paulo:20231011T100000
DTEND;TZID=America/Sao_Paulo:20240119T180000
DTSTAMP:20260422T104218
CREATED:20231106T135407Z
LAST-MODIFIED:20231106T135413Z
UID:44722-1697018400-1705687200@artequeacontece.com.br
SUMMARY:"Abstrações" no Centro Cultural PGE-RJ
DESCRIPTION:O Centro Cultural PGE-RJ e o Sesc RJ inauguram na quarta-feira (11/10) a exposição Abstrações\, com obras de 5 artistas mulheres: Fayga Ostrower\, Renina Katz\, Anna Letycia e Anna Maria Maiolino\, pertencentes ao acervo institucional do Sesc RJ\, e de Ana Cláudia Almeida\, artista convidada. \n\n\n\nEsta é a primeira mostra da parceria entre a Procuradoria Geral do Estado e o Serviço Social do Comércio\, celebrada em setembro com a instalação do Bristrô Sesc no antigo Convento do Carmo\, sede do Centro Cultural PGE-RJ. \n\n\n\n“Apresentamos aqui artistas mulheres que ampliam tal diretriz\, mostrando-nos que a dicotomia Geometria versus Informalismo foi produto de um discurso ancorado no império da razão\, não raro misógino\, no qual as mulheres permaneciam mal interpretadas pelas características supostamente ambíguas e subjetivas de seu desejo de gestualidade”\, afirma o texto curatorial.
URL:https://artequeacontece.com.br/evento/abstracoes-no-centro-cultural-pge-rj/
LOCATION:Centro Cultural PGE-RJ\, Rua do Carmo\, 27 - Centro\, Rio de Janeiro\, RJ\, Brasil
CATEGORIES:Rio de Janeiro
ATTACH;FMTTYPE=image/jpeg:https://artequeacontece.com.br/wp-content/uploads/2023/11/Fayga-Ostrower-1-1-1.jpeg
END:VEVENT
END:VCALENDAR