BEGIN:VCALENDAR
VERSION:2.0
PRODID:-//Arte Que Acontece - ECPv6.15.20//NONSGML v1.0//EN
CALSCALE:GREGORIAN
METHOD:PUBLISH
X-WR-CALNAME:Arte Que Acontece
X-ORIGINAL-URL:https://artequeacontece.com.br
X-WR-CALDESC:Eventos para Arte Que Acontece
REFRESH-INTERVAL;VALUE=DURATION:PT1H
X-Robots-Tag:noindex
X-PUBLISHED-TTL:PT1H
BEGIN:VTIMEZONE
TZID:America/Sao_Paulo
BEGIN:STANDARD
TZOFFSETFROM:-0300
TZOFFSETTO:-0300
TZNAME:-03
DTSTART:20240101T000000
END:STANDARD
END:VTIMEZONE
BEGIN:VEVENT
DTSTART;TZID=America/Sao_Paulo:20250513T100000
DTEND;TZID=America/Sao_Paulo:20250608T180000
DTSTAMP:20260422T071015
CREATED:20250514T155541Z
LAST-MODIFIED:20250514T155541Z
UID:62631-1747130400-1749405600@artequeacontece.com.br
SUMMARY:ABERTO4 na Maison La Roche
DESCRIPTION:Lais Amaral\, “Sem título I (série Lindo ninho)”\, 2025\nApós três edições bem recebidas em São Paulo\, a ABERTO inicia um novo capítulo com sua primeira exposição internacional. Realizada em Paris\, na icônica Maison La Roche\, projetada por Le Corbusier\, a mostra reúne cerca de 40 obras de arte e design\, assinadas por artistas brasileiros consagrados e contemporâneos. Participam da exposição nomes fundamentais como Amílcar de Castro\, Lygia Clark\, Hélio Oiticica\, Mira Schendel\, Tunga e Anna Maria Maiolino\, ao lado de artistas atuais como Beatriz Milhazes\, Luiz Zerbini\, Sonia Gomes\, Erika Verzutti\, Antonio Tarsis\, Sidival Fila e Luísa Matsushita\, entre outros. \nArtistas participantes: \nAluísio Carvão\, Amílcar de Castro\, Anna Maria Maiolino\, Antônio Tarsis\, Beatriz Milhazes\, Cicero Dias\, Cláudia Moreira Salles\, Erika Verzutti\, Hélio Oiticica\, Juan Araujo\, Lais Amaral\, Le Corbusier\, Liuba Wolf\, Luísa Matsushita\, Luiz Zerbini\, Lygia Clark\, Lygia Pape\, Marcius Galan\, Maria Klabin\, Maria Martins\, Marina Simão\, Mauro Restiffe\, Mira Schendel\, Milton Dacosta\, Oscar Niemeyer\, Roberto Burle-Marx\, Sandra Cinto\, Sergio Camargo\, Sidival Fila\, Sonia Gomes\, Sophia Loeb\, Tunga. \nIngressos: https://www.fondationlecorbusier.fr/billetterie/
URL:https://artequeacontece.com.br/evento/aberto4-na-maison-la-roche/
CATEGORIES:Paris
ATTACH;FMTTYPE=image/jpeg:https://artequeacontece.com.br/wp-content/uploads/2025/05/Lais-Amaral-Sem-titulo-I-serie-Lindo-ninho-2025-1-1.jpg
END:VEVENT
END:VCALENDAR