BEGIN:VCALENDAR
VERSION:2.0
PRODID:-//Arte Que Acontece - ECPv6.15.20//NONSGML v1.0//EN
CALSCALE:GREGORIAN
METHOD:PUBLISH
X-WR-CALNAME:Arte Que Acontece
X-ORIGINAL-URL:https://artequeacontece.com.br
X-WR-CALDESC:Eventos para Arte Que Acontece
REFRESH-INTERVAL;VALUE=DURATION:PT1H
X-Robots-Tag:noindex
X-PUBLISHED-TTL:PT1H
BEGIN:VTIMEZONE
TZID:America/Sao_Paulo
BEGIN:STANDARD
TZOFFSETFROM:-0300
TZOFFSETTO:-0300
TZNAME:-03
DTSTART:20240101T000000
END:STANDARD
END:VTIMEZONE
BEGIN:VEVENT
DTSTART;TZID=America/Sao_Paulo:20250908T100000
DTEND;TZID=America/Sao_Paulo:20251018T190000
DTSTAMP:20260419T115047
CREATED:20250910T233557Z
LAST-MODIFIED:20250910T233557Z
UID:64794-1757325600-1760814000@artequeacontece.com.br
SUMMARY:"Abelardo Zaluar" na Galeria de Arte Ipanema
DESCRIPTION:Abelardo Zaluar\, “Curva Sinuosa”\, 1986. Imagem / Divulgação\n\n\n\n\nA Galeria de Arte Ipanema apresenta\, a partir de 8 de setembro de 2025\, a exposição inédita Abelardo Zaluar\, dedicada a um dos nomes mais singulares da abstração geométrica brasileira. A mostra reúne\, até 18 de outubro\, 25 trabalhos em vinil sobre tela\, produzidos entre as décadas de 1970 e 1980. \nO texto crítico que acompanha a exposição é assinado pelo artista Gonçalo Ivo\, ex-aluno de Zaluar\, que recupera memórias de seu convívio com o mestre e ressalta a dimensão espiritual e humanista de sua obra: “Tenho para mim que\, em sua passagem neste ínfimo mundo\, Abelardo Zaluar (1924–1987) viveu e criou como um monge. Fez de seu ofício um sacerdócio. Humanista convicto\, tal qual um Midas\, transformou pigmentos\, formas e espaços em um mundo de encantamento e transcendência espiritual”. \nA obra de ZaluarNascido em Niterói\, Abelardo Zaluar construiu uma trajetória marcada pela independência de filiações a grupos ou correntes\, desenvolvendo uma linguagem própria que combina rigor geométrico e sensualidade barroca. Desde o início de sua carreira\, nos anos 1940\, transitou da figuração para a abstração\, incorporando colagens\, sobreposições de áreas de cor e experimentações com tridimensionalidade e trompe l’oeil. \nNos anos 1970\, incorporou recortes\, transparências e colagens de cartões e lâminas de acrílico\, criando jogos sensoriais que ampliavam a dimensão pictórica de sua obra. Essa produção\, frequentemente comparada por críticos como Mário Pedrosa e Frederico Morais a referências internacionais\, como Ben Nicholson\, permanece única no panorama brasileiro\, ao mesmo tempo rigorosa e lúdica. \nTrajetória e reconhecimentoProfessor\, pintor\, desenhista e gravador\, Zaluar participou de importantes coletivas e bienais entre as décadas de 1950 e 1980. Foi premiado no Salão Nacional de Arte Moderna (1963)\, recebeu destaque no Prêmio Leirner de Arte Contemporânea (1959)\, e realizou retrospectivas em instituições como o Museu de Arte Moderna de São Paulo (MAM/SP) e o Museu de Arte Contemporânea do Paraná (MAC/PR). \nA singularidade de sua produção\, à margem das classificações dominantes da crítica\, fez de sua obra um território de liberdade criativa\, hoje redescoberto como uma das contribuições mais originais da arte brasileira moderna.A exposição é acompanhada de um catálogo organizado pela Galeria de Arte Ipanema\, com textos críticos e reproduções das obras\, oferecendo uma visão abrangente da produção de Zaluar e sua influência na arte brasileira.
URL:https://artequeacontece.com.br/evento/abelardo-zaluar-na-galeria-de-arte-ipanema/
LOCATION:Galeria de Arte Ipanema\, Rua Aníbal de Mendonça\, 27 - Ipanema\, Rio de Janeiro\, RJ\, Brasil
CATEGORIES:Rio de Janeiro
ATTACH;FMTTYPE=image/jpeg:https://artequeacontece.com.br/wp-content/uploads/2025/09/Abelardo-Zaluar_Curva-Sinuosa-Vinil-sobre-tela-100-x-150-cm-1986.1-1.jpg
END:VEVENT
END:VCALENDAR