BEGIN:VCALENDAR
VERSION:2.0
PRODID:-//Arte Que Acontece - ECPv6.15.20//NONSGML v1.0//EN
CALSCALE:GREGORIAN
METHOD:PUBLISH
X-WR-CALNAME:Arte Que Acontece
X-ORIGINAL-URL:https://artequeacontece.com.br
X-WR-CALDESC:Eventos para Arte Que Acontece
REFRESH-INTERVAL;VALUE=DURATION:PT1H
X-Robots-Tag:noindex
X-PUBLISHED-TTL:PT1H
BEGIN:VTIMEZONE
TZID:America/Sao_Paulo
BEGIN:STANDARD
TZOFFSETFROM:-0300
TZOFFSETTO:-0300
TZNAME:-03
DTSTART:20240101T000000
END:STANDARD
END:VTIMEZONE
BEGIN:VEVENT
DTSTART;TZID=America/Sao_Paulo:20250802T100000
DTEND;TZID=America/Sao_Paulo:20250823T190000
DTSTAMP:20260419T154834
CREATED:20250801T182705Z
LAST-MODIFIED:20250801T182705Z
UID:64019-1754128800-1755975600@artequeacontece.com.br
SUMMARY:"A rotina das paredes" na Galeria Contempo
DESCRIPTION:Obra de Chen Kong Fang – Imagem: Divulgação\nA Primeira exposição no espaço físico reformado da galeria\, “A rotina das paredes” apresenta um conjunto de uma dezena pinturas\, a partir do dia 2 de agosto\, sábado\, na Contempo\, que ocupa uma casa da Alameda Gabriel Monteiro\, em São Paulo. \nAté o dia 23 de agosto\, a exposição coletiva reunirá trabalhos de Chen Kong Fang\, Lilian Camelli e Uéslei Fagundes\, com curadoria de Gabriel San Martin\, em um recorte voltado a pinturas de interiores e de naturezas-mortas da produção dos artistas. \nSe o ponto alto de boa parte da pintura figurativa brasileira se manifestou em gêneros “menores”\, como na natureza-morta\, na paisagem e na pintura de gênero\, San Martin argumenta que sua vocação privada reitera a constituição de um espaço privilegiado de esclarecimento da capacidade de cada um de dispor o mundo. \n“A espacialidade estranha casada às superfícies instáveis e ao tonalismo tímido das pinturas\, como por exemplo nas obras de José Pancetti\, Alfredo Volpi\, Eleonore Koch e do próprio Chen Kong Fang\, encontra a intimidade protetora de um espaço doméstico que desestabiliza as relações entre figura e fundo\, sujeito e objeto. Como se diferenciando público e privado\, fosse ainda tudo a mesma coisa”\, afirma o curador. \nAo trazer Uéslei Fagundes e Lilian Camelli para dialogarem com o trabalho de Chen Kong Fang\, a coletiva evidencia a constante resistência turva do espaço doméstico em não se tornar também público a que se envolve a história da pintura brasileira. Experimentando seja com a manipulação do suporte\, com uma tridimensionalização falseada ou com transições tonais\, as pinturas exploram a condição do gênero doméstico enquanto um laboratório crítico da realidade.
URL:https://artequeacontece.com.br/evento/a-rotina-das-paredes-na-galeria-contempo/
LOCATION:Galeria Contempo\, Al. Gabriel Monteiro da Silva\, 1644\, São Paulo\, SP\, Brasil
CATEGORIES:São Paulo
ATTACH;FMTTYPE=image/png:https://artequeacontece.com.br/wp-content/uploads/2025/08/FANG-2.png
END:VEVENT
END:VCALENDAR