BEGIN:VCALENDAR
VERSION:2.0
PRODID:-//Arte Que Acontece - ECPv6.15.20//NONSGML v1.0//EN
CALSCALE:GREGORIAN
METHOD:PUBLISH
X-WR-CALNAME:Arte Que Acontece
X-ORIGINAL-URL:https://artequeacontece.com.br
X-WR-CALDESC:Eventos para Arte Que Acontece
REFRESH-INTERVAL;VALUE=DURATION:PT1H
X-Robots-Tag:noindex
X-PUBLISHED-TTL:PT1H
BEGIN:VTIMEZONE
TZID:America/Sao_Paulo
BEGIN:STANDARD
TZOFFSETFROM:-0300
TZOFFSETTO:-0300
TZNAME:-03
DTSTART:20240101T000000
END:STANDARD
END:VTIMEZONE
BEGIN:VEVENT
DTSTART;TZID=America/Sao_Paulo:20250401T100000
DTEND;TZID=America/Sao_Paulo:20250419T190000
DTSTAMP:20260419T085154
CREATED:20250410T160835Z
LAST-MODIFIED:20250410T160847Z
UID:62159-1743501600-1745089200@artequeacontece.com.br
SUMMARY:"A pintura e seus mistérios" de Newman Schutze na Sergio Gonçalves Galeria
DESCRIPTION:Newman Schutze\, “Ratanabá”\, 2024 – Divulgação\nCom mais de 40 anos de trajetória\, Newman Schutze tem como característica a fidelidade que mantém à sua essência de pintor. Isso se comprova em “A pintura e seus mistérios”\, exposição que inaugura no dia 1º de abril\, sob curadoria de Marcus de Lontra Costa\, com 30 trabalhos produzidos em 2024\, em pequenos\, médios e grandes formatos de até 1\,80 metros\, a maioria utilizando técnica mista sobre tela (e alguns em técnica mista sobre papel). Newman\, que tradicionalmente não dá títulos para suas obras\, desta vez as “batizou” com nomes dados por pacientes psicóticos de oficinas por ele ministradas. Essas telas inéditas apresentadas na Sergio Gonçalves Galeria também exploram cores mais fortes\, em pinceladas que apontam para um retorno à arte figurativa. \n“A exposição faz uma imersão no meu universo pessoal e íntimo\, onde proponho uma reflexão profunda sobre as nuances da experiência humana. As obras\, que envolvem técnicas mistas e uma paleta vibrante\, desafiam a forma como percebemos a realidade e nos convidam a olhar para dentro de nós mesmos”\, afirma Newman Schutze. \nSegundo o próprio artista\, seu trabalho nunca teve uma linha de pesquisa fixa\, muito menos uma temática hermética que aprisionasse. Ele\, que sempre transitou entre o abstrato e o figurativo\, já foi figura humana e recentemente apresenta-se influenciado pelas paiasagens. Sempre espontaneamente. Na verdade\, ele diz se aproveitar de certas imagens para exercer seu trabalho pictórico. “A paisagem está lá\, mas não necessariamente com uma obrigatoriedade de representação real”\, diz.
URL:https://artequeacontece.com.br/evento/a-pintura-e-seus-misterios-de-newman-schutze-na-sergio-goncalves-galeria/
LOCATION:Sergio Gonçalves Galeria\, Alameda Gabriel Monteiro da Silva\, 484 – Jardim América\, São Paulo\, SP\, Brazil
CATEGORIES:São Paulo
ATTACH;FMTTYPE=image/jpeg:https://artequeacontece.com.br/wp-content/uploads/2025/04/Ratanaba_160x180cm_oleo-sobre-tela_Newman-Schutze-scaled-1.jpg
END:VEVENT
END:VCALENDAR