BEGIN:VCALENDAR
VERSION:2.0
PRODID:-//Arte Que Acontece - ECPv6.15.20//NONSGML v1.0//EN
CALSCALE:GREGORIAN
METHOD:PUBLISH
X-WR-CALNAME:Arte Que Acontece
X-ORIGINAL-URL:https://artequeacontece.com.br
X-WR-CALDESC:Eventos para Arte Que Acontece
REFRESH-INTERVAL;VALUE=DURATION:PT1H
X-Robots-Tag:noindex
X-PUBLISHED-TTL:PT1H
BEGIN:VTIMEZONE
TZID:America/Sao_Paulo
BEGIN:STANDARD
TZOFFSETFROM:-0300
TZOFFSETTO:-0300
TZNAME:-03
DTSTART:20210101T000000
END:STANDARD
END:VTIMEZONE
BEGIN:VEVENT
DTSTART;TZID=America/Sao_Paulo:20221027T100000
DTEND;TZID=America/Sao_Paulo:20230410T210000
DTSTAMP:20260423T172820
CREATED:20230213T212515Z
LAST-MODIFIED:20230215T233318Z
UID:38483-1666864800-1681160400@artequeacontece.com.br
SUMMARY:"A Parábola do Progresso" no Sesc Pompeia
DESCRIPTION:Exposição reflete sobre os ideários de modernidade e independência do país\, buscando projetos inclusivos e  diversos. Com cinco territórios dialógicos\, apresenta a vocação de reunir forças sociais em ambientes acolhedores  para suas comunidades. Um conjunto que marca o 40º aniversário desta unidade\, inaugurada em 1982\, palco para a cultura\, o lazer\, o bem-estar social e a saúde\, qualidades e valores a serem resgatados nesse momento de distopia global. A efeméride coincide ainda com o bicentenário da Independência do Brasil (1822) e o centenário da Semana de Arte Moderna de São Paulo (1922)\, duas datas históricas que atravessam a concepção do projeto\, inserido na programação “Diversos 22” do Sesc São Paulo. A coordenação curatorial é da crítica Lisette Lagnado\, com os curadores associados André Pitol e Yudi Rafael. Com o objetivo de discutir o legado de Lina Bo Bardi para o Sesc Pompeia\, um dos ícones arquitetônicos mais vibrantes da cidade\, a curadoria traz outras referências para somar camadas vivenciais e sociais ao projeto. Sendo assim\, cinco “espaços dialógicos” participam da exposição\, cada um com uma singularidade própria: o Acervo da Laje (subúrbio ferroviário de Salvador\, BA)\, a Aldeia Kalipety (São Paulo\, SP)\, a Casa do Povo (São Paulo\, SP)\, o Quilombo Santa Rosa dos Pretos (Itapecuru Mirim\, MA)\, e Savvy Contemporary – the Laboratory of form-ideas (Berlim\, Alemanha). Em contraposição à derivas autoritárias e demagogas\, diferentes forças sociais têm conseguido entretanto se organizar e gerar espaços de hospitalidade aptos a amparar sua comunidade. Sabendo articular a produção cultural dentro de uma perspectiva de cuidados\, sensibilização e convivialidade\, esses cinco centros de encontro\, implantados agora dentro do Espaço de Convivência do Sesc Pompeia\, reforçam sua transformação em “cidadela”\, ampliando o desejo do Sesc São Paulo quando convidou Lina Bo Bardi e sua equipe para os trabalhos de recuperação da fábrica industrial de tambores: “construir uma outra realidade”. Operam como condutores de esperança dentro da parábola do Positivismo\, chamada para ilustrar a mítica relação desse “país do futuro”\, desde sua colonização e o tráfico afro-atlântico\, passando por diversos fluxos migratórios que construíram a idílica imagem de uma nação hospitaleira\, terra abençoada por uma natureza exuberante\, a generosidade e expansividade emocional de um povo que teria encontrado sua felicidade na mestiçagem de suas raízes. Conhecido pela valorização da cultura popular\, o trabalho de Lina Bo Bardi adquire também novas inflexões hoje na esteira dos estudos decoloniais atentos ao reconhecimento de diferentes graus de extrativismos e silenciamentos.
URL:https://artequeacontece.com.br/evento/a-parabola-do-progresso-no-sesc-pompeia/
LOCATION:Sesc Pompeia\, 93 R. Clélia Água Branca\, São Paulo\, São Paulo\, Brasil
CATEGORIES:São Paulo
ATTACH;FMTTYPE=image/jpeg:https://artequeacontece.com.br/wp-content/uploads/2023/02/68367938-48116062.jpeg
END:VEVENT
END:VCALENDAR