BEGIN:VCALENDAR
VERSION:2.0
PRODID:-//Arte Que Acontece - ECPv6.15.20//NONSGML v1.0//EN
CALSCALE:GREGORIAN
METHOD:PUBLISH
X-WR-CALNAME:Arte Que Acontece
X-ORIGINAL-URL:https://artequeacontece.com.br
X-WR-CALDESC:Eventos para Arte Que Acontece
REFRESH-INTERVAL;VALUE=DURATION:PT1H
X-Robots-Tag:noindex
X-PUBLISHED-TTL:PT1H
BEGIN:VTIMEZONE
TZID:America/Sao_Paulo
BEGIN:STANDARD
TZOFFSETFROM:-0300
TZOFFSETTO:-0300
TZNAME:-03
DTSTART:20230101T000000
END:STANDARD
END:VTIMEZONE
BEGIN:VEVENT
DTSTART;TZID=America/Sao_Paulo:20240706T100000
DTEND;TZID=America/Sao_Paulo:20250202T173000
DTSTAMP:20260422T053550
CREATED:20241219T184304Z
LAST-MODIFIED:20241219T184304Z
UID:60443-1720260000-1738517400@artequeacontece.com.br
SUMMARY:"À jour. Laura VdB Facchini" na Galleria d'Arte Moderna
DESCRIPTION:Divulgação Galleria d’Arte Moderna\n\n\n\n\nO projeto site-specific concebido e realizado pela artista Laura VdB (Van der Bol) Facchini estabelece um diálogo direto com o complexo monumental do antigo mosteiro de San Giuseppe a Capo le Case\, atual sede da Galleria d’Arte Moderna. Curado por Wind Mill\, o trabalho foi desenvolvido com base em uma investigação detalhada do espaço\, suas cores e iluminação\, resultando em uma instalação que homenageia as monjas Carmelitas Descalças que ocuparam o local por séculos e que\, em parte\, ainda residem no complexo. \nIntitulada À jour\, a instalação remete à técnica de bordado à mão\, reinterpretando-a em escala monumental com o uso de tiras de polietileno branco e transparente. Essas tiras\, amarradas e entrelaçadas\, compõem um grande painel tridimensional que responde à arquitetura do local\, adaptando-se à fachada e ao claustro do antigo mosteiro. Os pontos de fixação dos materiais foram cuidadosamente escolhidos nas superfícies existentes\, respeitando o caráter histórico e arquitetônico do espaço. \nA obra começa a envolver os visitantes já na entrada do museu\, com uma intervenção marcante na fachada\, e se expande pelos ambientes internos\, especialmente no claustro das esculturas e no claustro-jardim. Nestes espaços\, a interação entre o bordado tridimensional\, o ambiente aberto e as esculturas cria arabescos e formas que sugerem novas perspectivas e interpretações. O entrelaçamento das fitas conecta o interior ao exterior\, preenchendo os vazios das janelas e estabelecendo um diálogo visual entre as paredes e as aberturas\, formando geometrias inovadoras e efeitos tridimensionais que acentuam o volume das superfícies arquitetônicas. \nO material utilizado\, o filme extensível de embalagem\, é uma escolha recorrente nas obras de Laura VdB Facchini por sua flexibilidade e pelo respeito que demonstra em intervenções em espaços históricos e delicados. Em À jour\, esse material transforma o espaço em uma obra de arte que não apenas preserva a memória histórica do lugar\, mas também lhe confere uma nova dimensão estética e contemporânea.
URL:https://artequeacontece.com.br/evento/a-jour-laura-vdb-facchini-na-galleria-darte-moderna/
LOCATION:Galleria d’Arte Moderna\, via Palestro 16\, Milão\, Itália
CATEGORIES:Milão
ATTACH;FMTTYPE=image/jpeg:https://artequeacontece.com.br/wp-content/uploads/2024/12/LAURA-VDB-FACCHINI-artist-Flavia-Benedetti-in-progress_1050.jpg
END:VEVENT
END:VCALENDAR