BEGIN:VCALENDAR
VERSION:2.0
PRODID:-//Arte Que Acontece - ECPv6.15.20//NONSGML v1.0//EN
CALSCALE:GREGORIAN
METHOD:PUBLISH
X-WR-CALNAME:Arte Que Acontece
X-ORIGINAL-URL:https://artequeacontece.com.br
X-WR-CALDESC:Eventos para Arte Que Acontece
REFRESH-INTERVAL;VALUE=DURATION:PT1H
X-Robots-Tag:noindex
X-PUBLISHED-TTL:PT1H
BEGIN:VTIMEZONE
TZID:America/Sao_Paulo
BEGIN:STANDARD
TZOFFSETFROM:-0300
TZOFFSETTO:-0300
TZNAME:-03
DTSTART:20220101T000000
END:STANDARD
END:VTIMEZONE
BEGIN:VEVENT
DTSTART;TZID=America/Sao_Paulo:20230826T110000
DTEND;TZID=America/Sao_Paulo:20231104T190000
DTSTAMP:20260422T073529
CREATED:20230828T174112Z
LAST-MODIFIED:20230828T174120Z
UID:43608-1693047600-1699124400@artequeacontece.com.br
SUMMARY:"A iminência do gesto: da escultura à fotografia" de Iole de Freitas na Galeria Raquel Arnaud
DESCRIPTION:A Galeria Raquel Arnaud abre a exposição A iminência do gesto: da escultura à fotografia da artista Iole de Freitas. Concomitantemente às exposições individuais Imagem como presença no Instituto Moreira Salles\, e Colapsada\, em pé no Instituto Tomie Ohtake\, ambas em cartaz até o fim de setembro\, a galeria reúne fotografias concebidas na década de 70 e esculturas recentes. Três exposições que se complementam e percorrem a rica produção de Iole de Freitas. No primeiro andar da galeria se encontra uma seleção de sequências fotográficas que contam a história da fase inicial da artista\, em diálogo com sua produção escultórica recente. Imagens fugazes\, etéreas e fragmentadas eram capturadas a partir do deslocamento da artista em espaços internos\, como seu próprio ateliê. A série Glass Pieces\, Life Slices\, exibida na mostra Radical Women Latin American Art 1960-1985 é um dos destaques. A partir de espelhos e objetos cortantes\, como facas\, Iole criava sequências fotográficas que sugeriam a iminência de uma ação. Em suas esculturas mais recentes\, Iole imprime movimentos nas chapas de aço inoxidável e parece congelar determinados gestos. Ao mesmo tempo em que sugerem leveza\, esses objetos têm pontas finas e afiadas. São delicados e cortantes. Cada escultura tem um tratamento diferente do aço e\, portanto\, a luz absorve ou reflete de formas distintas. Luz e leveza são temas nas séries Spectro\, que captura diferentes ângulos e movimentos do corpo da artista\, e Roots\, que registra os pés de Iole.
URL:https://artequeacontece.com.br/evento/a-iminencia-do-gesto-da-escultura-a-fotografia-de-iole-de-freitas-na-galeria-raquel-arnaud/
LOCATION:Galeria Raquel Arnaud\, 125 R. Fidalga Vila Madalena\, São Paulo\, São Paulo\, Brasil
CATEGORIES:São Paulo
ATTACH;FMTTYPE=image/jpeg:https://artequeacontece.com.br/wp-content/uploads/2023/08/14776-1-1-1.jpg
END:VEVENT
END:VCALENDAR