BEGIN:VCALENDAR
VERSION:2.0
PRODID:-//Arte Que Acontece - ECPv6.15.20//NONSGML v1.0//EN
CALSCALE:GREGORIAN
METHOD:PUBLISH
X-WR-CALNAME:Arte Que Acontece
X-ORIGINAL-URL:https://artequeacontece.com.br
X-WR-CALDESC:Eventos para Arte Que Acontece
REFRESH-INTERVAL;VALUE=DURATION:PT1H
X-Robots-Tag:noindex
X-PUBLISHED-TTL:PT1H
BEGIN:VTIMEZONE
TZID:America/Sao_Paulo
BEGIN:STANDARD
TZOFFSETFROM:-0300
TZOFFSETTO:-0300
TZNAME:-03
DTSTART:20230101T000000
END:STANDARD
END:VTIMEZONE
BEGIN:VEVENT
DTSTART;TZID=America/Sao_Paulo:20240817T110000
DTEND;TZID=America/Sao_Paulo:20241005T190000
DTSTAMP:20260422T093250
CREATED:20240816T153522Z
LAST-MODIFIED:20240816T153756Z
UID:50324-1723892400-1728154800@artequeacontece.com.br
SUMMARY:"A confissão\, o diário e o retrato" na Galeria Marilia Razuk
DESCRIPTION:José Leonilson\, Sem título (da série primeiras experiências com paintstick nº 1)\, 1988. Crédito: Ana Pigosso / Divulgação\n\n\n\n\nA Galeria Marilia Razuk apresenta a exposição coletiva “A confissão\, o diário e o retrato”\, com obras de José Leonilson\, Débora Bolzsoni\, Guerreiro do Divino Amor\, Johanna Calle\, Maria Laet\, Panmela Castro\, Rafael Alonso\, Seba Calfuqueo\, Sergio Romagnolo e Vinicius Gerheim\, sob a curadoria de Ademar Britto. \nA mostra se inspira no caráter autobiográfico\, presente na obra de José Leonilson\, para investigar como outros artistas contemporâneos utilizam o confessional\, o diário e o autorretrato para revelar aspectos íntimos de suas vidas e psiques. \n“O conceito surgiu da ideia de explorar a obra de Leonilson\, mas não apenas exibi-la. Muitos interpretam sua obra de trás para frente\, como se ele tivesse começado a explorar o diário e o cotidiano após ser diagnosticado com HIV. Na verdade\, ele já trabalhava nessa linha antes”\, afirma o curador\, que escolheu o título ao organizar os núcleos da exposição. \nA mostra convida o público a mergulhar na intimidade dos artistas\, proporcionando uma experiência reflexiva e pessoal sobre as diversas formas como a arte pode espelhar e moldar nossa compreensão de nós mesmos e do mundo ao nosso redor. \nA exposição inclui uma escultura de Débora Bolzsoni\, fotografia de Maria Laet\, desenhos e pintura de Panmela Castro\, obras de mídia mista de Guerreiro do Divino Amor\, pintura de Sérgio Romagnolo e Vinicius Gerheim\, vídeo e fotografia de Seba Calfuqueo\, trabalho em tecido de Johanna Calle e um políptico de Rafael Alonso. \n“Seu legado é extremamente importante\, pois seu trabalho é profundamente político\, abordando questões como saúde\, escolhas de vida/sexualidade e sua dedicação total à arte\, sem concessões”\, diz o curador\, que também faz parte do Conselho Curatorial do Solar dos Abacaxis\, no Rio de Janeiro. \nAdemar Britto é curador\, formado em Estudos Curatoriais pela Escola de Artes Visuais do Parque Lage e foi aluno especial no Programa de Pós-Graduação em Artes Visuais da UFRJ. Ele realiza textos críticos e exposições tanto de artistas emergentes quanto históricos\, e desde 2022 é curador do programa SOLO da ArtRio. Além disso\, Britto é médico especializado em Cardiologia\, com formação pela Universidade do Estado do Amazonas e Université René Descartes-Sorbonne Paris V\, e possui um mestrado em Ciências Cardiovasculares pelo Instituto Nacional de Cardiologia do Rio de Janeiro.
URL:https://artequeacontece.com.br/evento/a-confissao-o-diario-e-o-retrato-na-galeria-marilia-razuk/
LOCATION:Galeria Marilia Razuk\, Rua Jerônimo da Veiga\, 62-131\, São Paulo\, SP\, Brasil
CATEGORIES:São Paulo
ATTACH;FMTTYPE=image/jpeg:https://artequeacontece.com.br/wp-content/uploads/2024/08/captura-de-tela-2024-07-31-a-s-14.20.13-1.jpg
END:VEVENT
END:VCALENDAR