BEGIN:VCALENDAR
VERSION:2.0
PRODID:-//Arte Que Acontece - ECPv6.15.20//NONSGML v1.0//EN
CALSCALE:GREGORIAN
METHOD:PUBLISH
X-WR-CALNAME:Arte Que Acontece
X-ORIGINAL-URL:https://artequeacontece.com.br
X-WR-CALDESC:Eventos para Arte Que Acontece
REFRESH-INTERVAL;VALUE=DURATION:PT1H
X-Robots-Tag:noindex
X-PUBLISHED-TTL:PT1H
BEGIN:VTIMEZONE
TZID:America/Sao_Paulo
BEGIN:STANDARD
TZOFFSETFROM:-0300
TZOFFSETTO:-0300
TZNAME:-03
DTSTART:20230101T000000
END:STANDARD
END:VTIMEZONE
BEGIN:VEVENT
DTSTART;TZID=America/Sao_Paulo:20240309T120000
DTEND;TZID=America/Sao_Paulo:20240427T190000
DTSTAMP:20260419T193736
CREATED:20240313T192954Z
LAST-MODIFIED:20240313T192957Z
UID:47240-1709985600-1714244400@artequeacontece.com.br
SUMMARY:"A cara do Brasil" de Ticiana Parada no Espaço Cultural Correios Niterói
DESCRIPTION:Obra de Ticiana Parada. Imagem: Reprodução/Divulgação Espaço Cultural Correios Niterói\n\n\n\nOs quadros da artista plástica Ticiana Parada já estiveram no cenário de novelas como Amor Perfeito (2023) e algumas de suas telas\, em grandes dimensões\, fizeram parte da ambientação de programas como Encontro com Patrícia Poeta. No dia 9 de março\, sua arte chega a Niterói\, com a inauguração da exposição A cara do Brasil\, no Espaço Cultural Correios. A mostra\, que conta com curadoria de Marcia Marschhausen\, tem como inspiração as mais variadas facetas do povo brasileiro\, da sua religiosidade à diversidade cultural. \n\n\n\n– O artesanato\, a poesia\, a música\, as histórias e o colorido do brasileiro são inspiração para o meu trabalho. Mostro tudo o que sinto e o que vivi. Fico muito feliz quando enxergam o país dentro de cada obra feita. Quero colocar o samba\, o frevo\, o sertão – afirma. \n\n\n\nA exposição\, que ocupa o segundo andar do centro cultural\, contará com cerca de 20 obras de tamanhos variados\, feitas em tinta acrílica e óleo. Caixas de papelão e materiais reciclados também estarão presentes em instalações e esculturas. A diversidade do país estará representada na mistura de materiais e de temáticas abordadas. Entre as obras\, por exemplo\, há uma tela em grandes dimensões de Nossa Senhora Aparecida e imagens inspiradas no Candomblé e na Umbanda. \n\n\n\nA exposição contará também com um setor interativo. Antes de se dedicar integralmente às artes plásticas\, Ticiana trabalhou por 30 anos com educação infantil. A experiência com crianças inspirou a artista a criar uma área na exposição em que os pequenos poderão desenhar a cara do Brasil em um papel gigante.
URL:https://artequeacontece.com.br/evento/a-cara-do-brasil-de-ticiana-parada-no-espaco-cultural-correios-niteroi/
LOCATION:Espaço Cultural Correios Niterói\, Av. Visconde do Rio Branco\, 481 - Centro\, Rio de Janeiro\, RJ\, Brasil
CATEGORIES:Rio de Janeiro
ATTACH;FMTTYPE=image/jpeg:https://artequeacontece.com.br/wp-content/uploads/2024/03/Ticiana-Parada.jpg
END:VEVENT
END:VCALENDAR