BEGIN:VCALENDAR
VERSION:2.0
PRODID:-//Arte Que Acontece - ECPv6.15.20//NONSGML v1.0//EN
CALSCALE:GREGORIAN
METHOD:PUBLISH
X-WR-CALNAME:Arte Que Acontece
X-ORIGINAL-URL:https://artequeacontece.com.br
X-WR-CALDESC:Eventos para Arte Que Acontece
REFRESH-INTERVAL;VALUE=DURATION:PT1H
X-Robots-Tag:noindex
X-PUBLISHED-TTL:PT1H
BEGIN:VTIMEZONE
TZID:America/Sao_Paulo
BEGIN:STANDARD
TZOFFSETFROM:-0300
TZOFFSETTO:-0300
TZNAME:-03
DTSTART:20230101T000000
END:STANDARD
END:VTIMEZONE
BEGIN:VEVENT
DTSTART;TZID=America/Sao_Paulo:20240917T100000
DTEND;TZID=America/Sao_Paulo:20241011T190000
DTSTAMP:20260419T100602
CREATED:20240919T183718Z
LAST-MODIFIED:20240928T145529Z
UID:55293-1726567200-1728673200@artequeacontece.com.br
SUMMARY:“8 caminhos para o infinito” na Galeria TATO
DESCRIPTION:Obra de Anna Guerra. Imagem: Divulgação\n\n\n\n\nA Galeria TATO\, conhecida por conectar artistas visuais promissores com os curadores e agentes atuantes no circuito da arte contemporânea\, volta a representar artistas\, iniciando com um time de oito nomes. Desde 2020\, a galeria manteve o foco em projetos itinerantes e na criação de programas para desenvolvimento de carreira de artistas. Ao longo de 14 anos\, mais de 150 talentos emergentes passaram pelos projetos oferecidos pela instituição. Agora\, em 2024\, além de seguir com os programas\, a galeria volta a atuar na representação de artistas. O seleto grupo será apresentado na exposição “8 caminhos para o infinito”\, com organização de Tato DiLascio e assistência de Maria Eduarda Mota. Com abertura no dia 17 de setembro\, a mostra fica até 11 de outubro\, de quarta a sábado\, na Barra Funda\, São Paulo. A entrada é franca. \nA exposição “8 caminhos para o infinito” marca o retorno da TATO na representação de talentos. Depois de um breve hiato\, a galeria volta com um grupo coeso de oito artistas\, curados pelo tempo e pelas relações construídas na última década de trabalho. Os novos representados são Ana Michaelis\, Anna Guerra\, Desirée Hirtenkauf\, Hiago Bezerra\, Juniara Albuquerque\, Lucas Quintas\, Luiz83 e Pedro Hórak. “Esses artistas estiveram presentes na nossa trajetória\, ajudando a fomentar a imagem da galeria na cena artística nacional. Eles não só fazem parte da nossa história como têm total identificação com a nova fase e proposta da galeria”\, explica DiLascio\, fundador da TATO. \nAlém da afinidade com a proposta atual da galeria\, a escolha do time levou em conta aspectos como corpo de trabalho\, consistência da pesquisa artística\, qualidade\, originalidade e poética. A diversidade das linguagens e tipos de suportes usados é outro aspecto do grupo. \nA galeria é dirigida por Tato DiLascio\, profissional com experiência na identificação de artistas proeminentes e no estabelecimento de redes entre eles e os agentes do sistema\, como curadores e outros profissionais do mercado. Da criação da primeira galeria virtual do Brasil\, a Invest.art\, passando por projetos itinerantes até a abertura da Galeria TATO na sua antiga sede na Vila Madalena e a posterior transferência para a Barra Funda\, Tato ajudou a impulsionar a carreira de vários artistas emergentes. Entre os nomes que passaram pela Galeria TATO e hoje têm suas carreiras em ascensão estão Cristina Suzuki (Diáspora – SP)\, Consuelo Veszaro (Zipper – SP)\, Francisco Hurtz (Verve – SP)\, Lidia Lisbôa (Millan – SP)\, ⁠Lyz Parayzo\, Marcelo Gandhi (Aura – SP)\, Shizue Sakamoto (Luís Maluf – SP)\, Washington Silvera (Ybakatu – Curitiba) e Yohana Oizumi (Luciana Brito – SP).
URL:https://artequeacontece.com.br/evento/8-caminhos-para-o-infinito-na-galeria-tato/
LOCATION:Galeria Tato\, R. Barra Funda\, 893 - Barra Funda\, São Paulo\, SP\, Brasil
CATEGORIES:São Paulo
ATTACH;FMTTYPE=image/jpeg:https://artequeacontece.com.br/wp-content/uploads/2024/09/ANNA_GUERRA-1-1-1.jpeg
END:VEVENT
END:VCALENDAR