BEGIN:VCALENDAR
VERSION:2.0
PRODID:-//Arte Que Acontece - ECPv6.15.20//NONSGML v1.0//EN
CALSCALE:GREGORIAN
METHOD:PUBLISH
X-WR-CALNAME:Arte Que Acontece
X-ORIGINAL-URL:https://artequeacontece.com.br
X-WR-CALDESC:Eventos para Arte Que Acontece
REFRESH-INTERVAL;VALUE=DURATION:PT1H
X-Robots-Tag:noindex
X-PUBLISHED-TTL:PT1H
BEGIN:VTIMEZONE
TZID:America/Sao_Paulo
BEGIN:STANDARD
TZOFFSETFROM:-0300
TZOFFSETTO:-0300
TZNAME:-03
DTSTART:20240101T000000
END:STANDARD
END:VTIMEZONE
BEGIN:VEVENT
DTSTART;TZID=America/Sao_Paulo:20250610T100000
DTEND;TZID=America/Sao_Paulo:20250928T173000
DTSTAMP:20260419T115047
CREATED:20250620T151924Z
LAST-MODIFIED:20250620T151924Z
UID:63312-1749549600-1759080600@artequeacontece.com.br
SUMMARY:"$3 Bill: Evidence of Queer Lives" no Getty Center
DESCRIPTION:Naima Green\, “Assemblage with Pur·suit” (detalhe)\, 2019 © Naima Green; e Front Line of Freedom San Francisco: Queer as a Three Dollar Bill\, ca. 1981\, Ken Wood. Obras da coleção do Getty Research Institute. Texto\, design\, foto © 2025 J. Paul Getty Trust\n$3 Bill celebra as contribuições de artistas LGBTQ+ no último século. De pioneiros que investigaram questões de identidade sexual e de gênero na primeira metade do século XX\, passando pelos movimentos de libertação e pelos horrores da epidemia de HIV/AIDS\, até a compreensão atual\, mais inclusiva e ampla\, sobre gênero\, $3 Bill apresenta uma jornada de resiliência\, orgulho e beleza. \nNesta exposição\, reconhecemos abertamente\, em nossos textos de parede\, a história complexa da palavra “queer” e falamos sobre sua ressignificação pela comunidade LGBTQ+. Nesse contexto\, ela não é pejorativa\, mas uma palavra de inclusão e empoderamento. Além disso\, “queer” é um termo neutro em relação ao gênero e abrange pessoas que ficam de fora dos identificadores LGBT (como intersexo). \nUsamos essa palavra com intencionalidade\, consciência e respeito. \nEsta exposição é apresentada em inglês e espanhol.
URL:https://artequeacontece.com.br/evento/3-bill-evidence-of-queer-lives-no-getty-center/
LOCATION:Getty Center\, 1200 Getty Center Dr\, Los Angeles\, Califórnia\, Estados Unidos
CATEGORIES:Los Angeles
ATTACH;FMTTYPE=image/jpeg:https://artequeacontece.com.br/wp-content/uploads/2025/06/1c94447e-cb40-4340-9b21-bc37e518d037_1200x675-1.jpg
END:VEVENT
END:VCALENDAR