BEGIN:VCALENDAR
VERSION:2.0
PRODID:-//Arte Que Acontece - ECPv6.15.20//NONSGML v1.0//EN
CALSCALE:GREGORIAN
METHOD:PUBLISH
X-WR-CALNAME:Arte Que Acontece
X-ORIGINAL-URL:https://artequeacontece.com.br
X-WR-CALDESC:Eventos para Arte Que Acontece
REFRESH-INTERVAL;VALUE=DURATION:PT1H
X-Robots-Tag:noindex
X-PUBLISHED-TTL:PT1H
BEGIN:VTIMEZONE
TZID:America/Sao_Paulo
BEGIN:STANDARD
TZOFFSETFROM:-0300
TZOFFSETTO:-0300
TZNAME:-03
DTSTART:20240101T000000
END:STANDARD
END:VTIMEZONE
BEGIN:VEVENT
DTSTART;TZID=America/Sao_Paulo:20251213T100000
DTEND;TZID=America/Sao_Paulo:20260513T180000
DTSTAMP:20260422T053457
CREATED:20251204T200304Z
LAST-MODIFIED:20251204T200304Z
UID:66584-1765620000-1778695200@artequeacontece.com.br
SUMMARY:“ 100 anos de arte: Gilberto Chateaubriand” no MAM Rio
DESCRIPTION:Arjan Martins\, s.t. Divulgação\, foto de Jaime Acioli.\n“100 anos de arte: Gilberto Chateaubriand” é a segunda mostra dedicada ao centenário de nascimento de um dos maiores colecionadores da arte moderna e contemporânea no país. Reunindo cerca de 150 obras da Coleção Gilberto Chateaubriand\, a exposição apresenta uma história da arte brasileira do último século organizada em torno de cinco linhas temáticas. O projeto\, com curadoria de Pablo Lafuente e Raquel Barreto\, e curadoria assistente de Phelipe Rezende\, parte do olhar singular de Gilberto Chateaubriand (1925–2022)\, cuja coleção reúne mais de 8 mil obras adquiridas ao longo de sete décadas de diálogo com artistas.\nResultado de uma prática colecionista sustentada por convivência\, escuta e atenção às dinâmicas da vida artística do país\, esse conjunto reúne nomes de diversas regiões e linhagens. O acervo se expande por múltiplas linguagens — da pintura à fotografia\, da escultura às investigações experimentais — compondo um panorama sensível da produção brasileira no qual vários temas funcionam como eixos estruturantes de um século de arte. \n  \n  \n 
URL:https://artequeacontece.com.br/evento/100-anos-de-arte-gilberto-chateaubriand-no-mam-rio/
LOCATION:MAM Rio\, 85 Av. Infante Dom Henrique Parque do Flamengo\, Rio de Janeiro\, Rio de Janeiro\, Brasil
CATEGORIES:Rio de Janeiro
ATTACH;FMTTYPE=image/jpeg:https://artequeacontece.com.br/wp-content/uploads/2025/12/MARTINS_Arjan_Foto-Jaime-Acioli-resize.jpg
END:VEVENT
END:VCALENDAR